BEGIN:VCALENDAR
VERSION:2.0
PRODID:-//North Branch School - ECPv6.15.0.1//NONSGML v1.0//EN
CALSCALE:GREGORIAN
METHOD:PUBLISH
X-ORIGINAL-URL:https://north-branch-school.org
X-WR-CALDESC:Events for North Branch School
REFRESH-INTERVAL;VALUE=DURATION:PT1H
X-Robots-Tag:noindex
X-PUBLISHED-TTL:PT1H
BEGIN:VTIMEZONE
TZID:UTC
BEGIN:STANDARD
TZOFFSETFROM:+0000
TZOFFSETTO:+0000
TZNAME:UTC
DTSTART:20160101T000000
END:STANDARD
END:VTIMEZONE
BEGIN:VEVENT
DTSTART;TZID=UTC:20160927T130000
DTEND;TZID=UTC:20160927T143000
DTSTAMP:20260425T115712
CREATED:20160923T200034Z
LAST-MODIFIED:20160923T200034Z
UID:9745-1474981200-1474986600@north-branch-school.org
SUMMARY:Who Really Discovered America?
DESCRIPTION:Middle Schoolers will represent explorers and peoples\, all claiming to have discovered America.  Come listen and decide for yourself.
URL:https://north-branch-school.org/event/who-really-discovered-america/
LOCATION:North Branch School\, 221 Mickens Road\, Afton\, VA\, 22920
CATEGORIES:School Events
END:VEVENT
END:VCALENDAR