BEGIN:VCALENDAR
VERSION:2.0
PRODID:-//North Branch School - ECPv6.15.0.1//NONSGML v1.0//EN
CALSCALE:GREGORIAN
METHOD:PUBLISH
X-ORIGINAL-URL:https://north-branch-school.org
X-WR-CALDESC:Events for North Branch School
REFRESH-INTERVAL;VALUE=DURATION:PT1H
X-Robots-Tag:noindex
X-PUBLISHED-TTL:PT1H
BEGIN:VTIMEZONE
TZID:UTC
BEGIN:STANDARD
TZOFFSETFROM:+0000
TZOFFSETTO:+0000
TZNAME:UTC
DTSTART:20170101T000000
END:STANDARD
END:VTIMEZONE
BEGIN:VEVENT
DTSTART;VALUE=DATE:20170505
DTEND;VALUE=DATE:20170506
DTSTAMP:20260423T174213
CREATED:20170410T132756Z
LAST-MODIFIED:20170426T171001Z
UID:10511-1493942400-1494028799@north-branch-school.org
SUMMARY:Mini Relay for Life
DESCRIPTION:in support of the Nelson County Relay for Life \nSchedule: \n8:45-9:50      Regular class schedule \n9:55                Opening Ceremony \n10:05-10:20 Early Primary (15 minutes) \n10:20-10:40 Primary Yellow (20 minutes) \n10:40-11:05 Juniors (Round 1\, 25 minutes) \n11:05-11:25 Primary Blue (20 minutes) \n11:25-11:35 Preschool (10 minutes) \n11:35-1:00    Parents & optional for students during recess (85 min.) \n1:00-1:15      Juniors (Round 2\, 15 minutes) \n1:15-1:55      Seniors (40 minutes) \n1:55-2:45      Middle School (50 minutes) \n2:45-3:15      Closing ceremony and assembly (Big Room)   
URL:https://north-branch-school.org/event/mini-relay-for-life/
LOCATION:North Branch School\, 221 Mickens Road\, Afton\, VA\, 22920
CATEGORIES:School Events
END:VEVENT
END:VCALENDAR