BEGIN:VCALENDAR
VERSION:2.0
PRODID:-//North Branch School - ECPv6.15.0.1//NONSGML v1.0//EN
CALSCALE:GREGORIAN
METHOD:PUBLISH
X-WR-CALNAME:North Branch School
X-ORIGINAL-URL:https://north-branch-school.org
X-WR-CALDESC:Events for North Branch School
REFRESH-INTERVAL;VALUE=DURATION:PT1H
X-Robots-Tag:noindex
X-PUBLISHED-TTL:PT1H
BEGIN:VTIMEZONE
TZID:UTC
BEGIN:STANDARD
TZOFFSETFROM:+0000
TZOFFSETTO:+0000
TZNAME:UTC
DTSTART:20210101T000000
END:STANDARD
END:VTIMEZONE
BEGIN:VEVENT
DTSTART;TZID=UTC:20210512T153000
DTEND;TZID=UTC:20210512T193000
DTSTAMP:20260419T222749
CREATED:20210305T173855Z
LAST-MODIFIED:20210428T172707Z
UID:14598-1620833400-1620847800@north-branch-school.org
SUMMARY:Virtual BandFair
DESCRIPTION:Join us on this site https://north-branch-school.org/fundraising/bandfair/ and on Facebook for great music\, a surprise performance\, and more!  \nPlease consider a contribution in support of what is typically North Branch School’s biggest fundraiser of the year: Suggested donations: $12 (price of individual BandFair ticket)\, $36 (price of family BandFair ticket)\,  $100-$500(cost of varying levels of sponsorships.)
URL:https://north-branch-school.org/event/virtual-bandfair/
CATEGORIES:Fun & Fundraising Events
END:VEVENT
END:VCALENDAR