BEGIN:VCALENDAR
VERSION:2.0
PRODID:-//North Branch School - ECPv6.15.0.1//NONSGML v1.0//EN
CALSCALE:GREGORIAN
METHOD:PUBLISH
X-ORIGINAL-URL:https://north-branch-school.org
X-WR-CALDESC:Events for North Branch School
REFRESH-INTERVAL;VALUE=DURATION:PT1H
X-Robots-Tag:noindex
X-PUBLISHED-TTL:PT1H
BEGIN:VTIMEZONE
TZID:UTC
BEGIN:STANDARD
TZOFFSETFROM:+0000
TZOFFSETTO:+0000
TZNAME:UTC
DTSTART:20180101T000000
END:STANDARD
END:VTIMEZONE
BEGIN:VEVENT
DTSTART;TZID=UTC:20181130T083000
DTEND;TZID=UTC:20181130T160000
DTSTAMP:20260421T205249
CREATED:20181015T170205Z
LAST-MODIFIED:20181015T170205Z
UID:12318-1543566600-1543593600@north-branch-school.org
SUMMARY:Holiday Crafts Fair
DESCRIPTION:Avoid the crowds! Shop for artisan gifts in a quiet setting. \nA portion of the proceeds benefit North Branch School.
URL:https://north-branch-school.org/event/holiday-crafts-fair-2/
CATEGORIES:Fun & Fundraising Events
END:VEVENT
END:VCALENDAR