BEGIN:VCALENDAR
VERSION:2.0
PRODID:-//North Branch School - ECPv6.15.0.1//NONSGML v1.0//EN
CALSCALE:GREGORIAN
METHOD:PUBLISH
X-WR-CALNAME:North Branch School
X-ORIGINAL-URL:https://north-branch-school.org
X-WR-CALDESC:Events for North Branch School
REFRESH-INTERVAL;VALUE=DURATION:PT1H
X-Robots-Tag:noindex
X-PUBLISHED-TTL:PT1H
BEGIN:VTIMEZONE
TZID:UTC
BEGIN:STANDARD
TZOFFSETFROM:+0000
TZOFFSETTO:+0000
TZNAME:UTC
DTSTART:20170101T000000
END:STANDARD
END:VTIMEZONE
BEGIN:VEVENT
DTSTART;TZID=UTC:20170424T083000
DTEND;TZID=UTC:20170428T163000
DTSTAMP:20260424T203242
CREATED:20170410T131628Z
LAST-MODIFIED:20170410T131628Z
UID:10507-1493022600-1493397000@north-branch-school.org
SUMMARY:Boutique Sale
DESCRIPTION:Upscale yard sale at NBS!
URL:https://north-branch-school.org/event/boutique-sale/
LOCATION:North Branch School\, 221 Mickens Road\, Afton\, VA\, 22920
CATEGORIES:Fun & Fundraising Events
END:VEVENT
END:VCALENDAR