BEGIN:VCALENDAR
VERSION:2.0
PRODID:-//North Branch School - ECPv6.15.0.1//NONSGML v1.0//EN
CALSCALE:GREGORIAN
METHOD:PUBLISH
X-WR-CALNAME:North Branch School
X-ORIGINAL-URL:https://north-branch-school.org
X-WR-CALDESC:Events for North Branch School
REFRESH-INTERVAL;VALUE=DURATION:PT1H
X-Robots-Tag:noindex
X-PUBLISHED-TTL:PT1H
BEGIN:VTIMEZONE
TZID:UTC
BEGIN:STANDARD
TZOFFSETFROM:+0000
TZOFFSETTO:+0000
TZNAME:UTC
DTSTART:20190101T000000
END:STANDARD
END:VTIMEZONE
BEGIN:VEVENT
DTSTART;TZID=UTC:20190115T183000
DTEND;TZID=UTC:20190115T203000
DTSTAMP:20260423T072817
CREATED:20190108T180548Z
LAST-MODIFIED:20190108T180548Z
UID:12736-1547577000-1547584200@north-branch-school.org
SUMMARY:Board of Trustees meeting
DESCRIPTION:Any adult member of the school community is welcome to attend the open session portion of this meeting. 
URL:https://north-branch-school.org/event/board-of-trustees-meeting-3/
CATEGORIES:School Events
END:VEVENT
END:VCALENDAR