BEGIN:VCALENDAR
VERSION:2.0
PRODID:-//North Branch School - ECPv6.15.0.1//NONSGML v1.0//EN
CALSCALE:GREGORIAN
METHOD:PUBLISH
X-ORIGINAL-URL:https://north-branch-school.org
X-WR-CALDESC:Events for North Branch School
REFRESH-INTERVAL;VALUE=DURATION:PT1H
X-Robots-Tag:noindex
X-PUBLISHED-TTL:PT1H
BEGIN:VTIMEZONE
TZID:UTC
BEGIN:STANDARD
TZOFFSETFROM:+0000
TZOFFSETTO:+0000
TZNAME:UTC
DTSTART:20180101T000000
END:STANDARD
END:VTIMEZONE
BEGIN:VEVENT
DTSTART;TZID=UTC:20180805T120000
DTEND;TZID=UTC:20180805T170000
DTSTAMP:20260419T132853
CREATED:20180723T163947Z
LAST-MODIFIED:20180723T163947Z
UID:11982-1533470400-1533488400@north-branch-school.org
SUMMARY:Playground Workday
DESCRIPTION:Help build a new playground structure.
URL:https://north-branch-school.org/event/playground-workday-3/
CATEGORIES:Workdays
END:VEVENT
BEGIN:VEVENT
DTSTART;TZID=UTC:20180806T080000
DTEND;TZID=UTC:20180806T170000
DTSTAMP:20260419T132853
CREATED:20180723T164449Z
LAST-MODIFIED:20180723T164449Z
UID:11984-1533542400-1533574800@north-branch-school.org
SUMMARY:Playground Workday
DESCRIPTION:Help build a new playground structure.
URL:https://north-branch-school.org/event/playground-workday-4/
CATEGORIES:Workdays
END:VEVENT
BEGIN:VEVENT
DTSTART;TZID=UTC:20180812T083000
DTEND;TZID=UTC:20180812T170000
DTSTAMP:20260419T132853
CREATED:20180807T163353Z
LAST-MODIFIED:20180809T144650Z
UID:12049-1534062600-1534093200@north-branch-school.org
SUMMARY:Playground Workday
DESCRIPTION:
URL:https://north-branch-school.org/event/playground-workday-5/
CATEGORIES:Workdays
END:VEVENT
BEGIN:VEVENT
DTSTART;TZID=UTC:20180818T090000
DTEND;TZID=UTC:20180818T150000
DTSTAMP:20260419T132853
CREATED:20180723T165520Z
LAST-MODIFIED:20180723T165520Z
UID:11987-1534582800-1534604400@north-branch-school.org
SUMMARY:Family Workday
DESCRIPTION:This is a general workday in classrooms and on the school grounds to get ready for the opening day of school. There will be cleaning\, sorting\, prepping\, landscaping\, outdoor work\, and repair jobs to complete. Join us for the full day or a few hours.
URL:https://north-branch-school.org/event/family-workday-8/
CATEGORIES:Workdays
END:VEVENT
BEGIN:VEVENT
DTSTART;TZID=UTC:20180821T093000
DTEND;TZID=UTC:20180821T113000
DTSTAMP:20260419T132853
CREATED:20180723T170725Z
LAST-MODIFIED:20180723T170725Z
UID:11991-1534843800-1534851000@north-branch-school.org
SUMMARY:Preschool & Early Primary Play Day
DESCRIPTION:Preschool and Early Primary students and their parents are invited to join us to see what’s new at school\, meet teachers and other families\, and take a peek in classrooms.
URL:https://north-branch-school.org/event/preschool-early-primary-play-day-2/
CATEGORIES:Academic Calendar
END:VEVENT
BEGIN:VEVENT
DTSTART;VALUE=DATE:20180830
DTEND;VALUE=DATE:20180831
DTSTAMP:20260419T132853
CREATED:20180723T170032Z
LAST-MODIFIED:20180723T170032Z
UID:11989-1535587200-1535673599@north-branch-school.org
SUMMARY:First Day of School
DESCRIPTION:The NBS staff looks forward to welcoming students on the first day of the 2018-2019 school year!
URL:https://north-branch-school.org/event/first-day-of-school/
END:VEVENT
END:VCALENDAR