BEGIN:VCALENDAR
VERSION:2.0
PRODID:-//North Branch School - ECPv6.15.0.1//NONSGML v1.0//EN
CALSCALE:GREGORIAN
METHOD:PUBLISH
X-WR-CALNAME:North Branch School
X-ORIGINAL-URL:https://north-branch-school.org
X-WR-CALDESC:Events for North Branch School
REFRESH-INTERVAL;VALUE=DURATION:PT1H
X-Robots-Tag:noindex
X-PUBLISHED-TTL:PT1H
BEGIN:VTIMEZONE
TZID:UTC
BEGIN:STANDARD
TZOFFSETFROM:+0000
TZOFFSETTO:+0000
TZNAME:UTC
DTSTART:20180101T000000
END:STANDARD
END:VTIMEZONE
BEGIN:VEVENT
DTSTART;VALUE=DATE:20180709
DTEND;VALUE=DATE:20180714
DTSTAMP:20260419T150713
CREATED:20180409T171210Z
LAST-MODIFIED:20180409T171210Z
UID:11770-1531094400-1531526399@north-branch-school.org
SUMMARY:Art Camp for ages 5-12
DESCRIPTION:Please contact Michael Donegan for registration information: \ndonegandesign@gmail.com or \n434-826-8384
URL:https://north-branch-school.org/event/art-camp-for-ages-5-12-3/
LOCATION:North Branch School\, 221 Mickens Road\, Afton\, VA\, 22920
CATEGORIES:Camps & Afterschool Events
END:VEVENT
BEGIN:VEVENT
DTSTART;VALUE=DATE:20180716
DTEND;VALUE=DATE:20180721
DTSTAMP:20260419T150713
CREATED:20180409T171408Z
LAST-MODIFIED:20180409T171408Z
UID:11772-1531699200-1532131199@north-branch-school.org
SUMMARY:Art Camp for ages 5-12
DESCRIPTION:Please contact Michael Donegan for registration information: \ndonegandesign@gmail.com or \n434-826-8384
URL:https://north-branch-school.org/event/art-camp-for-ages-5-12-4/
LOCATION:North Branch School\, 221 Mickens Road\, Afton\, VA\, 22920
CATEGORIES:Camps & Afterschool Events
END:VEVENT
BEGIN:VEVENT
DTSTART;TZID=UTC:20180729T120000
DTEND;TZID=UTC:20180729T170000
DTSTAMP:20260419T150713
CREATED:20180723T160358Z
LAST-MODIFIED:20180723T160358Z
UID:11978-1532865600-1532883600@north-branch-school.org
SUMMARY:Playground Workday
DESCRIPTION:Help us build a new playground structure
URL:https://north-branch-school.org/event/playground-workday/
CATEGORIES:Workdays
END:VEVENT
BEGIN:VEVENT
DTSTART;TZID=UTC:20180730T080000
DTEND;TZID=UTC:20180730T160000
DTSTAMP:20260419T150713
CREATED:20180723T163823Z
LAST-MODIFIED:20180723T163823Z
UID:11980-1532937600-1532966400@north-branch-school.org
SUMMARY:Playground Workday
DESCRIPTION:Help build a new playground structure.
URL:https://north-branch-school.org/event/playground-workday-2/
CATEGORIES:Workdays
END:VEVENT
END:VCALENDAR