BEGIN:VCALENDAR
VERSION:2.0
PRODID:-//North Branch School - ECPv6.15.0.1//NONSGML v1.0//EN
CALSCALE:GREGORIAN
METHOD:PUBLISH
X-WR-CALNAME:North Branch School
X-ORIGINAL-URL:https://north-branch-school.org
X-WR-CALDESC:Events for North Branch School
REFRESH-INTERVAL;VALUE=DURATION:PT1H
X-Robots-Tag:noindex
X-PUBLISHED-TTL:PT1H
BEGIN:VTIMEZONE
TZID:UTC
BEGIN:STANDARD
TZOFFSETFROM:+0000
TZOFFSETTO:+0000
TZNAME:UTC
DTSTART:20180101T000000
END:STANDARD
END:VTIMEZONE
BEGIN:VEVENT
DTSTART;TZID=UTC:20180601T180000
DTEND;TZID=UTC:20180601T203000
DTSTAMP:20260419T163222
CREATED:20180410T163834Z
LAST-MODIFIED:20180410T163834Z
UID:11797-1527876000-1527885000@north-branch-school.org
SUMMARY:End-of-Year Program & 8th Grade Graduation
DESCRIPTION:
URL:https://north-branch-school.org/event/end-of-year-program-8th-grade-graduation/
CATEGORIES:Academic Calendar,School Events
END:VEVENT
BEGIN:VEVENT
DTSTART;TZID=UTC:20180603T100000
DTEND;TZID=UTC:20180603T130000
DTSTAMP:20260419T163222
CREATED:20180410T170908Z
LAST-MODIFIED:20180410T170908Z
UID:11806-1528020000-1528030800@north-branch-school.org
SUMMARY:NBS at Kids & Nature Festival
DESCRIPTION:
URL:https://north-branch-school.org/event/nbs-at-kids-nature-festival/
LOCATION:Ix Park\, 955 2nd Street SE\, Charlottesville\, VA\, 22902\, United States
CATEGORIES:Festivals
END:VEVENT
BEGIN:VEVENT
DTSTART;VALUE=DATE:20180618
DTEND;VALUE=DATE:20180623
DTSTAMP:20260419T163222
CREATED:20180409T170521Z
LAST-MODIFIED:20180409T170521Z
UID:11766-1529280000-1529711999@north-branch-school.org
SUMMARY:Art Camp for ages 5-12
DESCRIPTION:Contact Michael Donegan for registration information: \ndonegandesign@gmail.com or 434-826-8384
URL:https://north-branch-school.org/event/art-camp-for-ages-5-12/
LOCATION:North Branch School\, 221 Mickens Road\, Afton\, VA\, 22920
CATEGORIES:Camps & Afterschool Events
END:VEVENT
BEGIN:VEVENT
DTSTART;VALUE=DATE:20180625
DTEND;VALUE=DATE:20180630
DTSTAMP:20260419T163222
CREATED:20180409T170920Z
LAST-MODIFIED:20180409T170920Z
UID:11768-1529884800-1530316799@north-branch-school.org
SUMMARY:Art Camp for ages 5-12
DESCRIPTION:Please contact Michael Donegan for registration information: \ndonegandesign@gmail.com or \n434-826-8384
URL:https://north-branch-school.org/event/art-camp-for-ages-5-12-2/
LOCATION:North Branch School\, 221 Mickens Road\, Afton\, VA\, 22920
CATEGORIES:Camps & Afterschool Events
END:VEVENT
END:VCALENDAR