BEGIN:VCALENDAR
VERSION:2.0
PRODID:-//North Branch School - ECPv6.15.0.1//NONSGML v1.0//EN
CALSCALE:GREGORIAN
METHOD:PUBLISH
X-ORIGINAL-URL:https://north-branch-school.org
X-WR-CALDESC:Events for North Branch School
REFRESH-INTERVAL;VALUE=DURATION:PT1H
X-Robots-Tag:noindex
X-PUBLISHED-TTL:PT1H
BEGIN:VTIMEZONE
TZID:UTC
BEGIN:STANDARD
TZOFFSETFROM:+0000
TZOFFSETTO:+0000
TZNAME:UTC
DTSTART:20170101T000000
END:STANDARD
END:VTIMEZONE
BEGIN:VEVENT
DTSTART;VALUE=DATE:20170904
DTEND;VALUE=DATE:20170905
DTSTAMP:20260420T064229
CREATED:20170706T175242Z
LAST-MODIFIED:20170706T175242Z
UID:10797-1504483200-1504569599@north-branch-school.org
SUMMARY:School Closed
DESCRIPTION:
URL:https://north-branch-school.org/event/school-closed/
LOCATION:North Branch School\, 221 Mickens Road\, Afton\, VA\, 22920
CATEGORIES:Academic Calendar
END:VEVENT
BEGIN:VEVENT
DTSTART;TZID=UTC:20170908T083000
DTEND;TZID=UTC:20170908T153000
DTSTAMP:20260420T064229
CREATED:20170831T153306Z
LAST-MODIFIED:20170831T153306Z
UID:10880-1504859400-1504884600@north-branch-school.org
SUMMARY:Middle School Field Trip to Triple C
DESCRIPTION:
URL:https://north-branch-school.org/event/middle-school-field-trip-to-triple-c/
LOCATION:Triple C Camp
CATEGORIES:Field Trips
END:VEVENT
BEGIN:VEVENT
DTSTART;TZID=UTC:20170912T180000
DTEND;TZID=UTC:20170912T200000
DTSTAMP:20260420T064229
CREATED:20170831T152423Z
LAST-MODIFIED:20170831T152452Z
UID:10872-1505239200-1505246400@north-branch-school.org
SUMMARY:Back-to-School Night - Preschool & Early Primary
DESCRIPTION:Bring a dish to share for a potluck meal\, then hear from teachers about the upcoming year.
URL:https://north-branch-school.org/event/back-to-school-night-preschool-early-primary/
LOCATION:North Branch School\, 221 Mickens Road\, Afton\, VA\, 22920
CATEGORIES:Academic Calendar,School Events
END:VEVENT
BEGIN:VEVENT
DTSTART;TZID=UTC:20170914T180000
DTEND;TZID=UTC:20170914T200000
DTSTAMP:20260420T064229
CREATED:20170831T152724Z
LAST-MODIFIED:20170831T152724Z
UID:10876-1505412000-1505419200@north-branch-school.org
SUMMARY:Back-to-School Night - Primaries & Juniors
DESCRIPTION:Bring a dish to share for a potluck meal\, then hear from teachers about the upcoming year.
URL:https://north-branch-school.org/event/back-to-school-night-primaries-juniors/
LOCATION:North Branch School\, 221 Mickens Road\, Afton\, VA\, 22920
CATEGORIES:Academic Calendar,School Events
END:VEVENT
BEGIN:VEVENT
DTSTART;TZID=UTC:20170919T180000
DTEND;TZID=UTC:20170919T203000
DTSTAMP:20260420T064229
CREATED:20170831T152916Z
LAST-MODIFIED:20170831T152916Z
UID:10878-1505844000-1505853000@north-branch-school.org
SUMMARY:Back-to-School Night - Seniors & Middle School
DESCRIPTION:Bring a dish to share for a potluck meal\, then hear from teachers about the upcoming year.
URL:https://north-branch-school.org/event/back-to-school-night-seniors-middle-school-2/
LOCATION:North Branch School\, 221 Mickens Road\, Afton\, VA\, 22920
CATEGORIES:Academic Calendar,School Events
END:VEVENT
BEGIN:VEVENT
DTSTART;TZID=UTC:20170928T130000
DTEND;TZID=UTC:20170928T143000
DTSTAMP:20260420T064229
CREATED:20170926T153608Z
LAST-MODIFIED:20170926T153649Z
UID:11039-1506603600-1506609000@north-branch-school.org
SUMMARY:Joan of Arc Trial
DESCRIPTION:Joan of Arc goes on trial for treason and heresy. Middle Schoolers will portray characters prosecuting and defending Joan\, and Seniors are the jury. Parents and interested adults are welcome.
URL:https://north-branch-school.org/event/joan-of-arc-trial/
LOCATION:North Branch School\, 221 Mickens Road\, Afton\, VA\, 22920
CATEGORIES:Academic Calendar
END:VEVENT
END:VCALENDAR