BEGIN:VCALENDAR
VERSION:2.0
PRODID:-//North Branch School - ECPv6.15.0.1//NONSGML v1.0//EN
CALSCALE:GREGORIAN
METHOD:PUBLISH
X-ORIGINAL-URL:https://north-branch-school.org
X-WR-CALDESC:Events for North Branch School
REFRESH-INTERVAL;VALUE=DURATION:PT1H
X-Robots-Tag:noindex
X-PUBLISHED-TTL:PT1H
BEGIN:VTIMEZONE
TZID:UTC
BEGIN:STANDARD
TZOFFSETFROM:+0000
TZOFFSETTO:+0000
TZNAME:UTC
DTSTART:20170101T000000
END:STANDARD
END:VTIMEZONE
BEGIN:VEVENT
DTSTART;VALUE=DATE:20170731
DTEND;VALUE=DATE:20170805
DTSTAMP:20260420T083146
CREATED:20170706T173422Z
LAST-MODIFIED:20170706T173422Z
UID:10789-1501459200-1501891199@north-branch-school.org
SUMMARY:Summer Camp - Village Life
DESCRIPTION:For ages 4-12. For information contact ancientwisdomcamps@gmail.com
URL:https://north-branch-school.org/event/summer-camp-village-life-2/
LOCATION:North Branch School\, 221 Mickens Road\, Afton\, VA\, 22920
CATEGORIES:Camps & Afterschool Events
END:VEVENT
BEGIN:VEVENT
DTSTART;VALUE=DATE:20170807
DTEND;VALUE=DATE:20170812
DTSTAMP:20260420T083146
CREATED:20170706T173717Z
LAST-MODIFIED:20170706T173717Z
UID:10791-1502064000-1502495999@north-branch-school.org
SUMMARY:Summer Camp -Myths & Legends
DESCRIPTION:For ages 4-12. For information\, contact ancientwisdomcamps@gmail.com
URL:https://north-branch-school.org/event/summer-camp-myths-legends/
LOCATION:North Branch School\, 221 Mickens Road\, Afton\, VA\, 22920
CATEGORIES:Camps & Afterschool Events
END:VEVENT
BEGIN:VEVENT
DTSTART;TZID=UTC:20170817T100000
DTEND;TZID=UTC:20170817T113000
DTSTAMP:20260420T083146
CREATED:20170707T174405Z
LAST-MODIFIED:20170707T174405Z
UID:10826-1502964000-1502969400@north-branch-school.org
SUMMARY:Optional Middle School Food Pantry Service
DESCRIPTION:Any families wishing to help unload the truck should be at the Food Pantry by 10AM.
URL:https://north-branch-school.org/event/optional-middle-school-food-pantry-service-3/
LOCATION:Nelson County Food Pantry\, 9900 Thomas Nelson Highway\, Lovingston\, VA\, 22949\, United States
CATEGORIES:Field Trips
END:VEVENT
BEGIN:VEVENT
DTSTART;VALUE=DATE:20170819
DTEND;VALUE=DATE:20170820
DTSTAMP:20260420T083146
CREATED:20170706T152358Z
LAST-MODIFIED:20170706T152358Z
UID:10775-1503100800-1503187199@north-branch-school.org
SUMMARY:Family Workday
DESCRIPTION:
URL:https://north-branch-school.org/event/family-workday-5/
LOCATION:North Branch School\, 221 Mickens Road\, Afton\, VA\, 22920
CATEGORIES:School Events
ORGANIZER;CN="North Branch School":MAILTO:NorthBranchGolfClassic@gmail.com
END:VEVENT
BEGIN:VEVENT
DTSTART;TZID=UTC:20170822T093000
DTEND;TZID=UTC:20170822T113000
DTSTAMP:20260420T083146
CREATED:20170815T192312Z
LAST-MODIFIED:20170815T192312Z
UID:10845-1503394200-1503401400@north-branch-school.org
SUMMARY:Preschool & Early Primary Play Day
DESCRIPTION:Preschool and Early Primary students and their parents are invited to join us to see what’s new at school\, meet teachers and other families\, and take a peek in classrooms.
URL:https://north-branch-school.org/event/preschool-early-primary-play-day/
LOCATION:North Branch School\, 221 Mickens Road\, Afton\, VA\, 22920
CATEGORIES:Academic Calendar
END:VEVENT
BEGIN:VEVENT
DTSTART;TZID=UTC:20170825T093000
DTEND;TZID=UTC:20170825T123000
DTSTAMP:20260420T083146
CREATED:20170707T174625Z
LAST-MODIFIED:20170707T174625Z
UID:10828-1503653400-1503664200@north-branch-school.org
SUMMARY:Middle School Food Pantry Service
DESCRIPTION:All Middle Schoolers should plan to attend. Katrien can meet those who need a ride at NBS at 9AM; others may arrive at the Nelson County Food Pantry at 9:30 AM. The group will have lunch at Vito’s afterward.
URL:https://north-branch-school.org/event/middle-school-food-pantry-service/
LOCATION:Nelson County Food Pantry\, 9900 Thomas Nelson Highway\, Lovingston\, VA\, 22949\, United States
CATEGORIES:Field Trips
END:VEVENT
BEGIN:VEVENT
DTSTART;TZID=UTC:20170830T083000
DTEND;TZID=UTC:20170830T123000
DTSTAMP:20260420T083146
CREATED:20170706T174322Z
LAST-MODIFIED:20170706T174322Z
UID:10793-1504081800-1504096200@north-branch-school.org
SUMMARY:1st Day-Preschool & All Primary Classes (1/2 day)
DESCRIPTION:Welcome students in Preschool\, Early Primary\, Primary Blue\, and Primary Yellow! Please note that this first day is a half-day for all Primary students.
URL:https://north-branch-school.org/event/1st-day-preschool-all-primary-classes-12-day/
LOCATION:North Branch School\, 221 Mickens Road\, Afton\, VA\, 22920
CATEGORIES:Academic Calendar
END:VEVENT
BEGIN:VEVENT
DTSTART;TZID=UTC:20170831T083000
DTEND;TZID=UTC:20170831T154500
DTSTAMP:20260420T083146
CREATED:20170706T175025Z
LAST-MODIFIED:20170706T175025Z
UID:10795-1504168200-1504194300@north-branch-school.org
SUMMARY:1st Full Day for All Students
DESCRIPTION:Welcome to our Juniors\, Seniors\, and Middle Schoolers. Preschool and all Primary students also attend on this day.
URL:https://north-branch-school.org/event/1st-full-day-for-all-students/
LOCATION:North Branch School\, 221 Mickens Road\, Afton\, VA\, 22920
CATEGORIES:Academic Calendar
END:VEVENT
END:VCALENDAR