BEGIN:VCALENDAR
VERSION:2.0
PRODID:-//North Branch School - ECPv6.15.0.1//NONSGML v1.0//EN
CALSCALE:GREGORIAN
METHOD:PUBLISH
X-ORIGINAL-URL:https://north-branch-school.org
X-WR-CALDESC:Events for North Branch School
REFRESH-INTERVAL;VALUE=DURATION:PT1H
X-Robots-Tag:noindex
X-PUBLISHED-TTL:PT1H
BEGIN:VTIMEZONE
TZID:UTC
BEGIN:STANDARD
TZOFFSETFROM:+0000
TZOFFSETTO:+0000
TZNAME:UTC
DTSTART:20160101T000000
END:STANDARD
END:VTIMEZONE
BEGIN:VEVENT
DTSTART;TZID=UTC:20161202T083000
DTEND;TZID=UTC:20161202T160000
DTSTAMP:20260422T145227
CREATED:20161117T193836Z
LAST-MODIFIED:20161117T193836Z
UID:9960-1480667400-1480694400@north-branch-school.org
SUMMARY:Holiday Craft Fair
DESCRIPTION:Shop for handcrafted items in a relaxed setting.
URL:https://north-branch-school.org/event/holiday-craft-fair/
LOCATION:North Branch School\, 221 Mickens Road\, Afton\, VA\, 22920
END:VEVENT
BEGIN:VEVENT
DTSTART;TZID=UTC:20161216T013000
DTEND;TZID=UTC:20161216T210000
DTSTAMP:20260422T145227
CREATED:20160711T184242Z
LAST-MODIFIED:20161117T194559Z
UID:9554-1481851800-1481922000@north-branch-school.org
SUMMARY:St. George & the Dragon\, 1:30 & 7
DESCRIPTION:Our students annual gift to their families and the community!
URL:https://north-branch-school.org/event/st-george-the-dragon-130-7/
LOCATION:Rockfish Valley Community Center\, 190 Rockfish School Lane\, Afton\, VA\, 22920\, United States
CATEGORIES:School Events
END:VEVENT
BEGIN:VEVENT
DTSTART;TZID=UTC:20161217T080000
DTEND;TZID=UTC:20170102T170000
DTSTAMP:20260422T145227
CREATED:20160711T184417Z
LAST-MODIFIED:20160909T161209Z
UID:9556-1481961600-1483376400@north-branch-school.org
SUMMARY:Winter Break
DESCRIPTION:Enjoy your days off.  We’ll see you next year!
URL:https://north-branch-school.org/event/winter-break/
LOCATION:North Branch School\, 221 Mickens Road\, Afton\, VA\, 22920
CATEGORIES:Academic Calendar
END:VEVENT
END:VCALENDAR