BEGIN:VCALENDAR
VERSION:2.0
PRODID:-//North Branch School - ECPv6.15.0.1//NONSGML v1.0//EN
CALSCALE:GREGORIAN
METHOD:PUBLISH
X-WR-CALNAME:North Branch School
X-ORIGINAL-URL:https://north-branch-school.org
X-WR-CALDESC:Events for North Branch School
REFRESH-INTERVAL;VALUE=DURATION:PT1H
X-Robots-Tag:noindex
X-PUBLISHED-TTL:PT1H
BEGIN:VTIMEZONE
TZID:UTC
BEGIN:STANDARD
TZOFFSETFROM:+0000
TZOFFSETTO:+0000
TZNAME:UTC
DTSTART:20160101T000000
END:STANDARD
END:VTIMEZONE
BEGIN:VEVENT
DTSTART;TZID=UTC:20161121T114500
DTEND;TZID=UTC:20161121T130000
DTSTAMP:20260421T030950
CREATED:20160711T183712Z
LAST-MODIFIED:20160711T183712Z
UID:9551-1479728700-1479733200@north-branch-school.org
SUMMARY:Nursery Thanksgiving Celebration
DESCRIPTION:Join our youngest students for homemade soup and a short program.
URL:https://north-branch-school.org/event/nursery-thanksgiving-celebration/
LOCATION:North Branch School\, 221 Mickens Road\, Afton\, VA\, 22920
CATEGORIES:School Events
END:VEVENT
BEGIN:VEVENT
DTSTART;TZID=UTC:20161117T090000
DTEND;TZID=UTC:20161117T140000
DTSTAMP:20260421T030950
CREATED:20161027T170910Z
LAST-MODIFIED:20161027T170910Z
UID:9849-1479373200-1479391200@north-branch-school.org
SUMMARY:Seniors to Grand Caverns
DESCRIPTION:
URL:https://north-branch-school.org/event/seniors-to-grand-caverns/
CATEGORIES:Field Trips
END:VEVENT
BEGIN:VEVENT
DTSTART;VALUE=DATE:20161117
DTEND;VALUE=DATE:20161118
DTSTAMP:20260421T030950
CREATED:20161027T170733Z
LAST-MODIFIED:20161027T170733Z
UID:9848-1479340800-1479427199@north-branch-school.org
SUMMARY:Middle School to Jamestown
DESCRIPTION:
URL:https://north-branch-school.org/event/middle-school-to-jamestown/
CATEGORIES:Field Trips
END:VEVENT
BEGIN:VEVENT
DTSTART;VALUE=DATE:20161108
DTEND;VALUE=DATE:20161109
DTSTAMP:20260421T030950
CREATED:20160711T183422Z
LAST-MODIFIED:20160711T183422Z
UID:9550-1478563200-1478649599@north-branch-school.org
SUMMARY:Parent-Teacher Conferences - no school for students
DESCRIPTION:Please see Autum to schedule a conference with your child’s teacher.
URL:https://north-branch-school.org/event/parent-teacher-conferences-no-school-for-students/
LOCATION:North Branch School\, 221 Mickens Road\, Afton\, VA\, 22920
CATEGORIES:Academic Calendar
END:VEVENT
BEGIN:VEVENT
DTSTART;TZID=UTC:20161107T090000
DTEND;TZID=UTC:20161107T100000
DTSTAMP:20260421T030950
CREATED:20161010T191923Z
LAST-MODIFIED:20161010T191923Z
UID:9794-1478509200-1478512800@north-branch-school.org
SUMMARY:Issues Forum
DESCRIPTION:The 7th & 8th grade students of North Branch School will present the positions of presidential candidates – Democratic\, Republican\, and third party – on a variety of issues. Learn more before you vote!
URL:https://north-branch-school.org/event/issues-forum/
LOCATION:North Branch School\, 221 Mickens Road\, Afton\, VA\, 22920
CATEGORIES:School Events
END:VEVENT
BEGIN:VEVENT
DTSTART;TZID=UTC:20161028T080000
DTEND;TZID=UTC:20161028T170000
DTSTAMP:20260421T030950
CREATED:20161010T184727Z
LAST-MODIFIED:20161010T190854Z
UID:9790-1477641600-1477674000@north-branch-school.org
SUMMARY:Juniors to Kluge-Ruhe Aboriginal Art Museum
DESCRIPTION:Juniors will view the Aboriginal Art Collection as part of their study of the Continent of Australia.
URL:https://north-branch-school.org/event/juniors-to-kluge-ruhe-aboriginal-art-museum/
LOCATION:Kluge-Ruhe Aboriginal Art Museum\, 400 Worrell Drive\, Charlottesville\, VA\, 22911\, United States
CATEGORIES:Field Trips
END:VEVENT
BEGIN:VEVENT
DTSTART;TZID=UTC:20161027T093000
DTEND;TZID=UTC:20161027T094500
DTSTAMP:20260421T030950
CREATED:20160920T155615Z
LAST-MODIFIED:20160920T155615Z
UID:9738-1477560600-1477561500@north-branch-school.org
SUMMARY:Read for the Record
DESCRIPTION:North Branch students will join children around the world as they all read The Bear Ate Your Sandwich.
URL:https://north-branch-school.org/event/read-for-the-record/
LOCATION:North Branch School\, 221 Mickens Road\, Afton\, VA\, 22920
CATEGORIES:School Events
END:VEVENT
BEGIN:VEVENT
DTSTART;VALUE=DATE:20161027
DTEND;VALUE=DATE:20161030
DTSTAMP:20260421T030950
CREATED:20160920T155936Z
LAST-MODIFIED:20160920T155936Z
UID:9739-1477526400-1477785599@north-branch-school.org
SUMMARY:Chesapeake Bay: Middle School
DESCRIPTION:Middle School students travel to the Chesapeake Bay to work with staff from the Chesapeake Bay Foundation as part of their units on watersheds and water.
URL:https://north-branch-school.org/event/chesapeake-bay-middle-school/
CATEGORIES:Field Trips
END:VEVENT
BEGIN:VEVENT
DTSTART;VALUE=DATE:20161021
DTEND;VALUE=DATE:20161022
DTSTAMP:20260421T030950
CREATED:20160711T183310Z
LAST-MODIFIED:20161021T141331Z
UID:9549-1477008000-1477094399@north-branch-school.org
SUMMARY:Grandparents' Day
DESCRIPTION:Nursery & Early Primary 11:30-12:45 (bring a lunch for yourself) \nPrimary – Middle School 1:30-3:30
URL:https://north-branch-school.org/event/grandparents-day/
LOCATION:North Branch School\, 221 Mickens Road\, Afton\, VA\, 22920
CATEGORIES:School Events
END:VEVENT
BEGIN:VEVENT
DTSTART;TZID=UTC:20161020T093000
DTEND;TZID=UTC:20161020T233000
DTSTAMP:20260421T030950
CREATED:20160920T155415Z
LAST-MODIFIED:20160920T155415Z
UID:9737-1476955800-1477006200@north-branch-school.org
SUMMARY:Writer's Eye: Juniors
DESCRIPTION:Students create prose or poetry inspired by works of art exhibited at the Fralin Museum of Art at UVA.
URL:https://north-branch-school.org/event/writers-eye-juniors/
LOCATION:Fralin Art Museum\, 155 Rugby Road\, Charlottesville\, VA\, 22903\, United States
CATEGORIES:Field Trips
END:VEVENT
BEGIN:VEVENT
DTSTART;TZID=UTC:20161020T090000
DTEND;TZID=UTC:20161020T130000
DTSTAMP:20260421T030950
CREATED:20161010T184402Z
LAST-MODIFIED:20161010T190243Z
UID:9788-1476954000-1476968400@north-branch-school.org
SUMMARY:Primary Blue to Drumheller's Orchard
DESCRIPTION:It’s apple picking time!
URL:https://north-branch-school.org/event/primary-blue-to-drumhellers-orchard/
LOCATION:Drumheller’s Orchard\, 1130 Drumheller Orchard Lane\, Lovingston\, VA\, 22949\, United States
CATEGORIES:Field Trips
END:VEVENT
BEGIN:VEVENT
DTSTART;TZID=UTC:20161019T093000
DTEND;TZID=UTC:20161019T113000
DTSTAMP:20260421T030950
CREATED:20160920T155302Z
LAST-MODIFIED:20160920T155302Z
UID:9736-1476869400-1476876600@north-branch-school.org
SUMMARY:Writer's Eye: Seniors
DESCRIPTION:Students create prose or poetry inspired by works of art exhibited at the Fralin Museum of Art at UVA.
URL:https://north-branch-school.org/event/writers-eye-seniors/
LOCATION:Fralin Art Museum\, 155 Rugby Road\, Charlottesville\, VA\, 22903\, United States
CATEGORIES:Field Trips
END:VEVENT
BEGIN:VEVENT
DTSTART;TZID=UTC:20161015T080000
DTEND;TZID=UTC:20161015T100000
DTSTAMP:20260421T030950
CREATED:20160711T183140Z
LAST-MODIFIED:20160711T183140Z
UID:9548-1476518400-1476525600@north-branch-school.org
SUMMARY:Dragon Dash 5K & One-Mile Fun Run
DESCRIPTION:Join us as we raise some fun and raise some funds for NBS
URL:https://north-branch-school.org/event/dragon-dash-5k-one-mile-fun-run/
LOCATION:North Branch School\, 221 Mickens Road\, Afton\, VA\, 22920
CATEGORIES:Fun & Fundraising Events
END:VEVENT
BEGIN:VEVENT
DTSTART;TZID=UTC:20161012T093000
DTEND;TZID=UTC:20161012T113000
DTSTAMP:20260421T030950
CREATED:20160920T155139Z
LAST-MODIFIED:20160920T155139Z
UID:9734-1476264600-1476271800@north-branch-school.org
SUMMARY:Writer's Eye: Middle School
DESCRIPTION:Students create prose or poetry inspired by works of art exhibited at the Fralin Museum of Art at UVA.
URL:https://north-branch-school.org/event/writers-eye-middle-school/
LOCATION:Fralin Art Museum\, 155 Rugby Road\, Charlottesville\, VA\, 22903\, United States
CATEGORIES:Field Trips
END:VEVENT
BEGIN:VEVENT
DTSTART;VALUE=DATE:20161010
DTEND;VALUE=DATE:20161011
DTSTAMP:20260421T030950
CREATED:20160711T182925Z
LAST-MODIFIED:20160711T182925Z
UID:9547-1476057600-1476143999@north-branch-school.org
SUMMARY:Staff Workday - no school for students
DESCRIPTION:
URL:https://north-branch-school.org/event/staff-workday-no-school-for-students/
LOCATION:North Branch School\, 221 Mickens Road\, Afton\, VA\, 22920
CATEGORIES:Academic Calendar
END:VEVENT
BEGIN:VEVENT
DTSTART;TZID=UTC:20161008T090000
DTEND;TZID=UTC:20161008T150000
DTSTAMP:20260421T030950
CREATED:20160920T151906Z
LAST-MODIFIED:20160920T151906Z
UID:9733-1475917200-1475938800@north-branch-school.org
SUMMARY:Family Workday
DESCRIPTION:Join us for deep cleaning\, landscaping\, and maintenance work to keep NBS in tip-top shape.
URL:https://north-branch-school.org/event/family-workday-3/
LOCATION:North Branch School\, 221 Mickens Road\, Afton\, VA\, 22920
CATEGORIES:School Events
END:VEVENT
BEGIN:VEVENT
DTSTART;VALUE=DATE:20161006
DTEND;VALUE=DATE:20161007
DTSTAMP:20260421T030950
CREATED:20160920T150651Z
LAST-MODIFIED:20160920T150717Z
UID:9729-1475712000-1475798399@north-branch-school.org
SUMMARY:School Pictures
DESCRIPTION:Make-up Day
URL:https://north-branch-school.org/event/school-pictures/
LOCATION:North Branch School\, 221 Mickens Road\, Afton\, VA\, 22920
CATEGORIES:School Events
END:VEVENT
BEGIN:VEVENT
DTSTART;VALUE=DATE:20161005
DTEND;VALUE=DATE:20161006
DTSTAMP:20260421T030950
CREATED:20160920T151634Z
LAST-MODIFIED:20160920T151634Z
UID:9732-1475625600-1475711999@north-branch-school.org
SUMMARY:School Pictures
DESCRIPTION:Seniors & Middle School
URL:https://north-branch-school.org/event/school-pictures-3/
LOCATION:North Branch School\, 221 Mickens Road\, Afton\, VA\, 22920
CATEGORIES:School Events
END:VEVENT
BEGIN:VEVENT
DTSTART;VALUE=DATE:20160930
DTEND;VALUE=DATE:20161001
DTSTAMP:20260421T030950
CREATED:20160920T151520Z
LAST-MODIFIED:20160920T151520Z
UID:9731-1475193600-1475279999@north-branch-school.org
SUMMARY:School Pictures
DESCRIPTION:Preschool – Juniors
URL:https://north-branch-school.org/event/school-pictures-2/
LOCATION:North Branch School\, 221 Mickens Road\, Afton\, VA\, 22920
CATEGORIES:School Events
END:VEVENT
BEGIN:VEVENT
DTSTART;TZID=UTC:20160927T180000
DTEND;TZID=UTC:20160927T200000
DTSTAMP:20260421T030950
CREATED:20160909T160111Z
LAST-MODIFIED:20160909T160111Z
UID:9644-1474999200-1475006400@north-branch-school.org
SUMMARY:Back-to-School Night-Seniors & Middle School
DESCRIPTION:Bring a dish to share with the group and meet other families in the school. (Children are welcome but do not need to attend.) Please note: This is an opportunity to hear about expectations for the class in general. If you wish to discuss your child in particular prior to the November Parent-Teacher conferences\, please schedule another conference time with your child’s teacher.
URL:https://north-branch-school.org/event/back-to-school-night-seniors-middle-school/
LOCATION:North Branch School\, 221 Mickens Road\, Afton\, VA\, 22920
CATEGORIES:Academic Calendar,School Events
END:VEVENT
BEGIN:VEVENT
DTSTART;TZID=UTC:20160927T130000
DTEND;TZID=UTC:20160927T143000
DTSTAMP:20260421T030950
CREATED:20160923T200034Z
LAST-MODIFIED:20160923T200034Z
UID:9745-1474981200-1474986600@north-branch-school.org
SUMMARY:Who Really Discovered America?
DESCRIPTION:Middle Schoolers will represent explorers and peoples\, all claiming to have discovered America.  Come listen and decide for yourself.
URL:https://north-branch-school.org/event/who-really-discovered-america/
LOCATION:North Branch School\, 221 Mickens Road\, Afton\, VA\, 22920
CATEGORIES:School Events
END:VEVENT
BEGIN:VEVENT
DTSTART;TZID=UTC:20160927T090000
DTEND;TZID=UTC:20160927T100000
DTSTAMP:20260421T030950
CREATED:20160923T195615Z
LAST-MODIFIED:20160923T195615Z
UID:9744-1474966800-1474970400@north-branch-school.org
SUMMARY:5K Tips and Course Overview
DESCRIPTION:NBS parent\, Aaron Kelly\, will run/walk the Dragon Dash 5K course with interested adults.
URL:https://north-branch-school.org/event/5k-tips-and-course-overview/
LOCATION:North Branch School\, 221 Mickens Road\, Afton\, VA\, 22920
END:VEVENT
BEGIN:VEVENT
DTSTART;TZID=UTC:20160923T144500
DTEND;TZID=UTC:20160923T170000
DTSTAMP:20260421T030950
CREATED:20160909T161832Z
LAST-MODIFIED:20160909T161832Z
UID:9647-1474641900-1474650000@north-branch-school.org
SUMMARY:Festy Raffle Drawing
DESCRIPTION:We’ll draw the winner of a pair of tickets plus camping pass and early admission passes for http://thefesty.com \nThe prize package is valued at $485.  Interested in tickets?  Contact Bonnie at http://nbsgiving@gmail.com \n1 chance for $3\, 2 for $5\, 5 for $10 or 10 for $15.  All proceeds benefit the students and teachers of NBS.
URL:https://north-branch-school.org/event/festy-raffle-drawing/
CATEGORIES:Fun & Fundraising Events
END:VEVENT
BEGIN:VEVENT
DTSTART;TZID=UTC:20160923T090000
DTEND;TZID=UTC:20160923T110000
DTSTAMP:20260421T030950
CREATED:20160909T160332Z
LAST-MODIFIED:20160909T160332Z
UID:9645-1474621200-1474628400@north-branch-school.org
SUMMARY:Middle School to Nelson Food Pantry
DESCRIPTION:Each month our Middle Schoolers volunteer at the Nelson Food Pantry. They help stock shelves and bag food items prior to Saturday distribution. 
URL:https://north-branch-school.org/event/middle-school-to-nelson-food-pantry/
CATEGORIES:Field Trips
END:VEVENT
BEGIN:VEVENT
DTSTART;TZID=UTC:20160920T180000
DTEND;TZID=UTC:20160920T200000
DTSTAMP:20260421T030950
CREATED:20160909T155954Z
LAST-MODIFIED:20160909T155954Z
UID:9643-1474394400-1474401600@north-branch-school.org
SUMMARY:Back-to-School Night-Primary Yellow & Juniors
DESCRIPTION:Bring a dish to share with the group and meet other families in the school. (Children are welcome but do not need to attend.) Please note: This is an opportunity to hear about expectations for the class in general. If you wish to discuss your child in particular prior to the November Parent-Teacher conferences\, please schedule another conference time with your child’s teacher.
URL:https://north-branch-school.org/event/back-to-school-night-primary-yellow-juniors/
LOCATION:North Branch School\, 221 Mickens Road\, Afton\, VA\, 22920
CATEGORIES:Academic Calendar,School Events
END:VEVENT
BEGIN:VEVENT
DTSTART;TZID=UTC:20160919T183000
DTEND;TZID=UTC:20160919T200000
DTSTAMP:20260421T030950
CREATED:20160909T162125Z
LAST-MODIFIED:20160909T162125Z
UID:9648-1474309800-1474315200@north-branch-school.org
SUMMARY:Board of Trustees meeting
DESCRIPTION:Any interested adult member of the school community is welcome to attend open sessions of the board meetings. The board shares a potluck meal as they meet. Visitors do not need to bring a dish.
URL:https://north-branch-school.org/event/board-of-trustees-meeting/
LOCATION:North Branch School\, 221 Mickens Road\, Afton\, VA\, 22920
END:VEVENT
BEGIN:VEVENT
DTSTART;TZID=UTC:20160918T153000
DTEND;TZID=UTC:20160918T163000
DTSTAMP:20260421T030950
CREATED:20160909T161429Z
LAST-MODIFIED:20160913T141628Z
UID:9646-1474212600-1474216200@north-branch-school.org
SUMMARY:Community Circle Sing
DESCRIPTION:All are welcome!  Questions?  Contact Katrien Vance\, msorion@gmail.com \n 
URL:https://north-branch-school.org/event/community-circle-sing/
LOCATION:North Branch School\, 221 Mickens Road\, Afton\, VA\, 22920
END:VEVENT
BEGIN:VEVENT
DTSTART;TZID=UTC:20160916T180000
DTEND;TZID=UTC:20160916T193000
DTSTAMP:20260421T030950
CREATED:20160909T155827Z
LAST-MODIFIED:20160909T155827Z
UID:9642-1474048800-1474054200@north-branch-school.org
SUMMARY:Back-to-School Night-Preschool\, Early Primary\, Primary Blue
DESCRIPTION:Bring a dish to share with the group and meet other families in the school. (Children are welcome but do not need to attend.) Please note: This is an opportunity to hear about expectations for the class in general. If you wish to discuss your child in particular prior to the November Parent-Teacher conferences\, please schedule another conference time with your child’s teacher.
URL:https://north-branch-school.org/event/back-to-school-night-preschool-early-primary-primary-blue/
LOCATION:North Branch School\, 221 Mickens Road\, Afton\, VA\, 22920
CATEGORIES:Academic Calendar,School Events
END:VEVENT
BEGIN:VEVENT
DTSTART;VALUE=DATE:20160905
DTEND;VALUE=DATE:20160906
DTSTAMP:20260421T030950
CREATED:20160711T182815Z
LAST-MODIFIED:20160711T182815Z
UID:9546-1473033600-1473119999@north-branch-school.org
SUMMARY:School Closed for Labor Day
DESCRIPTION:Enjoy your day off!
URL:https://north-branch-school.org/event/school-closed-for-labor-day/
LOCATION:North Branch School\, 221 Mickens Road\, Afton\, VA\, 22920
CATEGORIES:Academic Calendar
END:VEVENT
BEGIN:VEVENT
DTSTART;TZID=UTC:20160901T083000
DTEND;TZID=UTC:20160901T153000
DTSTAMP:20260421T030950
CREATED:20160711T182611Z
LAST-MODIFIED:20160711T182611Z
UID:9545-1472718600-1472743800@north-branch-school.org
SUMMARY:1st day for Juniors\, Seniors\, Middle School/Full Day Primaries
DESCRIPTION:
URL:https://north-branch-school.org/event/1st-day-for-juniors-seniors-middle-schoolfull-day-primaries/
LOCATION:North Branch School\, 221 Mickens Road\, Afton\, VA\, 22920
CATEGORIES:Academic Calendar
END:VEVENT
END:VCALENDAR