BEGIN:VCALENDAR
VERSION:2.0
PRODID:-//North Branch School - ECPv6.15.0.1//NONSGML v1.0//EN
CALSCALE:GREGORIAN
METHOD:PUBLISH
X-WR-CALNAME:North Branch School
X-ORIGINAL-URL:https://north-branch-school.org
X-WR-CALDESC:Events for North Branch School
REFRESH-INTERVAL;VALUE=DURATION:PT1H
X-Robots-Tag:noindex
X-PUBLISHED-TTL:PT1H
BEGIN:VTIMEZONE
TZID:UTC
BEGIN:STANDARD
TZOFFSETFROM:+0000
TZOFFSETTO:+0000
TZNAME:UTC
DTSTART:20170101T000000
END:STANDARD
END:VTIMEZONE
BEGIN:VEVENT
DTSTART;VALUE=DATE:20170421
DTEND;VALUE=DATE:20170422
DTSTAMP:20260420T073046
CREATED:20170410T132916Z
LAST-MODIFIED:20170410T132916Z
UID:10513-1492732800-1492819199@north-branch-school.org
SUMMARY:Earth Day Celebration
DESCRIPTION:
URL:https://north-branch-school.org/event/earth-day-celebration/
LOCATION:North Branch School\, 221 Mickens Road\, Afton\, VA\, 22920
CATEGORIES:School Events
END:VEVENT
BEGIN:VEVENT
DTSTART;TZID=UTC:20170428T143000
DTEND;TZID=UTC:20170428T151500
DTSTAMP:20260420T073046
CREATED:20170426T173131Z
LAST-MODIFIED:20170426T173131Z
UID:10583-1493389800-1493392500@north-branch-school.org
SUMMARY:Poems by Shel Silverstein
DESCRIPTION:The Primary Yellow class offer their favorites by this offer
URL:https://north-branch-school.org/event/poems-by-shel-silverstein/
LOCATION:North Branch School\, 221 Mickens Road\, Afton\, VA\, 22920
CATEGORIES:School Events
END:VEVENT
BEGIN:VEVENT
DTSTART;VALUE=DATE:20170505
DTEND;VALUE=DATE:20170506
DTSTAMP:20260420T073046
CREATED:20170410T132756Z
LAST-MODIFIED:20170426T171001Z
UID:10511-1493942400-1494028799@north-branch-school.org
SUMMARY:Mini Relay for Life
DESCRIPTION:in support of the Nelson County Relay for Life \nSchedule: \n8:45-9:50      Regular class schedule \n9:55                Opening Ceremony \n10:05-10:20 Early Primary (15 minutes) \n10:20-10:40 Primary Yellow (20 minutes) \n10:40-11:05 Juniors (Round 1\, 25 minutes) \n11:05-11:25 Primary Blue (20 minutes) \n11:25-11:35 Preschool (10 minutes) \n11:35-1:00    Parents & optional for students during recess (85 min.) \n1:00-1:15      Juniors (Round 2\, 15 minutes) \n1:15-1:55      Seniors (40 minutes) \n1:55-2:45      Middle School (50 minutes) \n2:45-3:15      Closing ceremony and assembly (Big Room)   
URL:https://north-branch-school.org/event/mini-relay-for-life/
LOCATION:North Branch School\, 221 Mickens Road\, Afton\, VA\, 22920
CATEGORIES:School Events
END:VEVENT
BEGIN:VEVENT
DTSTART;TZID=UTC:20170511T090000
DTEND;TZID=UTC:20170511T100000
DTSTAMP:20260420T073046
CREATED:20170426T172524Z
LAST-MODIFIED:20170426T172524Z
UID:10579-1494493200-1494496800@north-branch-school.org
SUMMARY:Aesop's Fables & The Lorax
DESCRIPTION:Our Seniors present these two tales.
URL:https://north-branch-school.org/event/aesops-fables-the-lorax/
LOCATION:North Branch School\, 221 Mickens Road\, Afton\, VA\, 22920
CATEGORIES:School Events
END:VEVENT
BEGIN:VEVENT
DTSTART;TZID=UTC:20170511T141500
DTEND;TZID=UTC:20170511T151500
DTSTAMP:20260420T073046
CREATED:20170426T172912Z
LAST-MODIFIED:20170426T172912Z
UID:10581-1494512100-1494515700@north-branch-school.org
SUMMARY:Aesop's Fables & The Lorax
DESCRIPTION:Seniors present these two tales.
URL:https://north-branch-school.org/event/aesops-fables-the-lorax-2/
LOCATION:North Branch School\, 221 Mickens Road\, Afton\, VA\, 22920
CATEGORIES:School Events
END:VEVENT
BEGIN:VEVENT
DTSTART;TZID=UTC:20170512T144500
DTEND;TZID=UTC:20170512T151500
DTSTAMP:20260420T073046
CREATED:20170426T174237Z
LAST-MODIFIED:20170426T174237Z
UID:10587-1494600300-1494602100@north-branch-school.org
SUMMARY:No Assembly Today
DESCRIPTION:
URL:https://north-branch-school.org/event/no-assembly-today/
CATEGORIES:School Events
END:VEVENT
BEGIN:VEVENT
DTSTART;VALUE=DATE:20170819
DTEND;VALUE=DATE:20170820
DTSTAMP:20260420T073046
CREATED:20170706T152358Z
LAST-MODIFIED:20170706T152358Z
UID:10775-1503100800-1503187199@north-branch-school.org
SUMMARY:Family Workday
DESCRIPTION:
URL:https://north-branch-school.org/event/family-workday-5/
LOCATION:North Branch School\, 221 Mickens Road\, Afton\, VA\, 22920
CATEGORIES:School Events
ORGANIZER;CN="North Branch School":MAILTO:NorthBranchGolfClassic@gmail.com
END:VEVENT
BEGIN:VEVENT
DTSTART;TZID=UTC:20170912T180000
DTEND;TZID=UTC:20170912T200000
DTSTAMP:20260420T073046
CREATED:20170831T152423Z
LAST-MODIFIED:20170831T152452Z
UID:10872-1505239200-1505246400@north-branch-school.org
SUMMARY:Back-to-School Night - Preschool & Early Primary
DESCRIPTION:Bring a dish to share for a potluck meal\, then hear from teachers about the upcoming year.
URL:https://north-branch-school.org/event/back-to-school-night-preschool-early-primary/
LOCATION:North Branch School\, 221 Mickens Road\, Afton\, VA\, 22920
CATEGORIES:Academic Calendar,School Events
END:VEVENT
BEGIN:VEVENT
DTSTART;TZID=UTC:20170914T180000
DTEND;TZID=UTC:20170914T200000
DTSTAMP:20260420T073046
CREATED:20170831T152724Z
LAST-MODIFIED:20170831T152724Z
UID:10876-1505412000-1505419200@north-branch-school.org
SUMMARY:Back-to-School Night - Primaries & Juniors
DESCRIPTION:Bring a dish to share for a potluck meal\, then hear from teachers about the upcoming year.
URL:https://north-branch-school.org/event/back-to-school-night-primaries-juniors/
LOCATION:North Branch School\, 221 Mickens Road\, Afton\, VA\, 22920
CATEGORIES:Academic Calendar,School Events
END:VEVENT
BEGIN:VEVENT
DTSTART;TZID=UTC:20170919T180000
DTEND;TZID=UTC:20170919T203000
DTSTAMP:20260420T073046
CREATED:20170831T152916Z
LAST-MODIFIED:20170831T152916Z
UID:10878-1505844000-1505853000@north-branch-school.org
SUMMARY:Back-to-School Night - Seniors & Middle School
DESCRIPTION:Bring a dish to share for a potluck meal\, then hear from teachers about the upcoming year.
URL:https://north-branch-school.org/event/back-to-school-night-seniors-middle-school-2/
LOCATION:North Branch School\, 221 Mickens Road\, Afton\, VA\, 22920
CATEGORIES:Academic Calendar,School Events
END:VEVENT
BEGIN:VEVENT
DTSTART;VALUE=DATE:20171019
DTEND;VALUE=DATE:20171020
DTSTAMP:20260420T073046
CREATED:20171011T135433Z
LAST-MODIFIED:20171011T145451Z
UID:11143-1508371200-1508457599@north-branch-school.org
SUMMARY:NBS Participates in Read for the Record
DESCRIPTION:NBS students join with children around the world on this day to read Quackers by Liz Wong.
URL:https://north-branch-school.org/event/nbs-participates-in-read-for-the-record/
CATEGORIES:School Events
END:VEVENT
BEGIN:VEVENT
DTSTART;VALUE=DATE:20171020
DTEND;VALUE=DATE:20171021
DTSTAMP:20260420T073046
CREATED:20170706T175915Z
LAST-MODIFIED:20170706T175915Z
UID:10801-1508457600-1508543999@north-branch-school.org
SUMMARY:Grandparents' Day
DESCRIPTION:
URL:https://north-branch-school.org/event/grandparents-day-2/
LOCATION:North Branch School\, 221 Mickens Road\, Afton\, VA\, 22920
CATEGORIES:School Events
END:VEVENT
BEGIN:VEVENT
DTSTART;TZID=UTC:20171027T133000
DTEND;TZID=UTC:20171027T150000
DTSTAMP:20260420T073046
CREATED:20171026T172230Z
LAST-MODIFIED:20171026T172230Z
UID:11188-1509111000-1509116400@north-branch-school.org
SUMMARY:Halloween Fun
DESCRIPTION:
URL:https://north-branch-school.org/event/halloween-fun/
CATEGORIES:School Events
END:VEVENT
BEGIN:VEVENT
DTSTART;VALUE=DATE:20171028
DTEND;VALUE=DATE:20171029
DTSTAMP:20260420T073046
CREATED:20171026T172523Z
LAST-MODIFIED:20171026T172523Z
UID:11192-1509148800-1509235199@north-branch-school.org
SUMMARY:Family Workday
DESCRIPTION:
URL:https://north-branch-school.org/event/family-workday-6/
CATEGORIES:School Events
END:VEVENT
BEGIN:VEVENT
DTSTART;TZID=UTC:20171031T120000
DTEND;TZID=UTC:20171031T123000
DTSTAMP:20260420T073046
CREATED:20171026T172441Z
LAST-MODIFIED:20171026T172441Z
UID:11190-1509451200-1509453000@north-branch-school.org
SUMMARY:Nursery/Preschool Costume Parade
DESCRIPTION:
URL:https://north-branch-school.org/event/nurserypreschool-costume-parade/
CATEGORIES:School Events
END:VEVENT
BEGIN:VEVENT
DTSTART;TZID=UTC:20171120T114500
DTEND;TZID=UTC:20171120T124500
DTSTAMP:20260420T073046
CREATED:20170706T183741Z
LAST-MODIFIED:20170706T183741Z
UID:10807-1511178300-1511181900@north-branch-school.org
SUMMARY:Preschool Thanksgiving Celebration
DESCRIPTION:Join our preschoolers for a brief program and vegetable soup lunch.
URL:https://north-branch-school.org/event/preschool-thanksgiving-celebration/
LOCATION:North Branch School\, 221 Mickens Road\, Afton\, VA\, 22920
CATEGORIES:School Events
END:VEVENT
BEGIN:VEVENT
DTSTART;TZID=UTC:20171121T173000
DTEND;TZID=UTC:20171121T193000
DTSTAMP:20260420T073046
CREATED:20170706T184151Z
LAST-MODIFIED:20170706T192735Z
UID:10809-1511285400-1511292600@north-branch-school.org
SUMMARY:Thanksgiving Supper & Program
DESCRIPTION:Join our school-age students for a Thanksgiving program and simple meal of soup and cornbread.
URL:https://north-branch-school.org/event/thanksgiving-supper-program/
LOCATION:Rockfish Valley Fire Station\, 11100 Rockfish Valley Highway\, Afton\, VA\, 22920\, United States
CATEGORIES:School Events
END:VEVENT
BEGIN:VEVENT
DTSTART;TZID=UTC:20171220T133000
DTEND;TZID=UTC:20171220T150000
DTSTAMP:20260420T073046
CREATED:20170706T192217Z
LAST-MODIFIED:20170706T192217Z
UID:10815-1513776600-1513782000@north-branch-school.org
SUMMARY:St. George & the Dragon
DESCRIPTION:What’s the best way to spend the Winter Solstice? Driving the darkness away at North Branch’s production of “St. George & the Dragon.” Performances at 1:30 & 7PM.
URL:https://north-branch-school.org/event/st-george-the-dragon/
LOCATION:To Be Determined
CATEGORIES:School Events
END:VEVENT
BEGIN:VEVENT
DTSTART;TZID=UTC:20171220T190000
DTEND;TZID=UTC:20171220T203000
DTSTAMP:20260420T073046
CREATED:20170706T192501Z
LAST-MODIFIED:20170706T192501Z
UID:10817-1513796400-1513801800@north-branch-school.org
SUMMARY:St. George & The Dragon
DESCRIPTION:What’s the best way to spend the Winter Solstice? Driving the darkness away at North Branch’s production of “St. George & the Dragon.” Performances at 1:30 & 7PM.
URL:https://north-branch-school.org/event/st-george-the-dragon-2/
LOCATION:To Be Determined
CATEGORIES:School Events
END:VEVENT
BEGIN:VEVENT
DTSTART;TZID=UTC:20180227T093000
DTEND;TZID=UTC:20180227T113000
DTSTAMP:20260420T073046
CREATED:20180105T170016Z
LAST-MODIFIED:20180105T170016Z
UID:11362-1519723800-1519731000@north-branch-school.org
SUMMARY:Open House
DESCRIPTION:Tour the school\, meet staff and parents\, observe in classrooms.
URL:https://north-branch-school.org/event/open-house-3/
CATEGORIES:School Events
END:VEVENT
BEGIN:VEVENT
DTSTART;TZID=UTC:20180227T173000
DTEND;TZID=UTC:20180227T193000
DTSTAMP:20260420T073046
CREATED:20180105T170117Z
LAST-MODIFIED:20180105T170117Z
UID:11364-1519752600-1519759800@north-branch-school.org
SUMMARY:Open House
DESCRIPTION:Tour the school\, meet staff.
URL:https://north-branch-school.org/event/open-house-4/
CATEGORIES:School Events
END:VEVENT
BEGIN:VEVENT
DTSTART;TZID=UTC:20180303T090000
DTEND;TZID=UTC:20180303T150000
DTSTAMP:20260420T073046
CREATED:20180202T184142Z
LAST-MODIFIED:20180202T184142Z
UID:11522-1520067600-1520089200@north-branch-school.org
SUMMARY:Family Work Day
DESCRIPTION:
URL:https://north-branch-school.org/event/family-work-day/
CATEGORIES:School Events
END:VEVENT
BEGIN:VEVENT
DTSTART;TZID=UTC:20180323T091500
DTEND;TZID=UTC:20180323T100000
DTSTAMP:20260420T073046
CREATED:20180313T163236Z
LAST-MODIFIED:20180316T150621Z
UID:11665-1521796500-1521799200@north-branch-school.org
SUMMARY:Primary Blue Play
DESCRIPTION:
URL:https://north-branch-school.org/event/primary-blue-play/
LOCATION:North Branch School\, 221 Mickens Road\, Afton\, VA\, 22920
CATEGORIES:School Events
END:VEVENT
BEGIN:VEVENT
DTSTART;TZID=UTC:20180323T144500
DTEND;TZID=UTC:20180323T151500
DTSTAMP:20260420T073046
CREATED:20180313T163357Z
LAST-MODIFIED:20180316T150718Z
UID:11667-1521816300-1521818100@north-branch-school.org
SUMMARY:Primary Blue Play
DESCRIPTION:
URL:https://north-branch-school.org/event/primary-blue-play-2/
LOCATION:North Branch School\, 221 Mickens Road\, Afton\, VA\, 22920
CATEGORIES:School Events
END:VEVENT
BEGIN:VEVENT
DTSTART;TZID=UTC:20180329T130000
DTEND;TZID=UTC:20180329T143000
DTSTAMP:20260420T073046
CREATED:20180313T163021Z
LAST-MODIFIED:20180313T163021Z
UID:11661-1522328400-1522333800@north-branch-school.org
SUMMARY:Middle School Play
DESCRIPTION:
URL:https://north-branch-school.org/event/middle-school-play-3/
LOCATION:Rapunzel’s Coffee & Books\, 924 Front Street\, Lovingston\, VA\, 22949\, United States
CATEGORIES:School Events
END:VEVENT
BEGIN:VEVENT
DTSTART;TZID=UTC:20180329T183000
DTEND;TZID=UTC:20180329T200000
DTSTAMP:20260420T073046
CREATED:20180313T163129Z
LAST-MODIFIED:20180313T163129Z
UID:11663-1522348200-1522353600@north-branch-school.org
SUMMARY:Middle School Play
DESCRIPTION:
URL:https://north-branch-school.org/event/middle-school-play-4/
LOCATION:Rapunzel’s Coffee & Books\, 924 Front Street\, Lovingston\, VA\, 22949\, United States
CATEGORIES:School Events
END:VEVENT
BEGIN:VEVENT
DTSTART;TZID=UTC:20180330T090000
DTEND;TZID=UTC:20180330T094500
DTSTAMP:20260420T073046
CREATED:20180316T150903Z
LAST-MODIFIED:20180316T150903Z
UID:11674-1522400400-1522403100@north-branch-school.org
SUMMARY:Primary Yellow Spring Show
DESCRIPTION:
URL:https://north-branch-school.org/event/primary-yellow-spring-show/
LOCATION:North Branch School\, 221 Mickens Road\, Afton\, VA\, 22920
CATEGORIES:School Events
END:VEVENT
BEGIN:VEVENT
DTSTART;TZID=UTC:20180330T143000
DTEND;TZID=UTC:20180330T151500
DTSTAMP:20260420T073046
CREATED:20180316T151005Z
LAST-MODIFIED:20180316T151005Z
UID:11676-1522420200-1522422900@north-branch-school.org
SUMMARY:Primary Yellow Spring Show
DESCRIPTION:
URL:https://north-branch-school.org/event/primary-yellow-spring-show-2/
CATEGORIES:School Events
END:VEVENT
BEGIN:VEVENT
DTSTART;VALUE=DATE:20180407
DTEND;VALUE=DATE:20180501
DTSTAMP:20260420T073046
CREATED:20180410T163415Z
LAST-MODIFIED:20180410T163415Z
UID:11795-1523059200-1525132799@north-branch-school.org
SUMMARY:NBS Student Art Show at Nelson Memorial Library
DESCRIPTION:
URL:https://north-branch-school.org/event/nbs-student-art-show-at-nelson-memorial-library/
CATEGORIES:School Events
END:VEVENT
BEGIN:VEVENT
DTSTART;VALUE=DATE:20180420
DTEND;VALUE=DATE:20180421
DTSTAMP:20260420T073046
CREATED:20180410T161016Z
LAST-MODIFIED:20180410T161124Z
UID:11782-1524182400-1524268799@north-branch-school.org
SUMMARY:Earth Day Celebration
DESCRIPTION:Junior play at 9AM and 2:30PM
URL:https://north-branch-school.org/event/earth-day-celebration-2/
CATEGORIES:School Events
END:VEVENT
END:VCALENDAR