BEGIN:VCALENDAR
VERSION:2.0
PRODID:-//North Branch School - ECPv6.15.0.1//NONSGML v1.0//EN
CALSCALE:GREGORIAN
METHOD:PUBLISH
X-WR-CALNAME:North Branch School
X-ORIGINAL-URL:https://north-branch-school.org
X-WR-CALDESC:Events for North Branch School
REFRESH-INTERVAL;VALUE=DURATION:PT1H
X-Robots-Tag:noindex
X-PUBLISHED-TTL:PT1H
BEGIN:VTIMEZONE
TZID:UTC
BEGIN:STANDARD
TZOFFSETFROM:+0000
TZOFFSETTO:+0000
TZNAME:UTC
DTSTART:20180101T000000
END:STANDARD
END:VTIMEZONE
BEGIN:VEVENT
DTSTART;VALUE=DATE:20180511
DTEND;VALUE=DATE:20180512
DTSTAMP:20260421T034316
CREATED:20180410T162103Z
LAST-MODIFIED:20180410T162103Z
UID:11791-1525996800-1526083199@north-branch-school.org
SUMMARY:NBS Mini Relay for Life
DESCRIPTION:in support of the Nelson Amherst Relay for Life
URL:https://north-branch-school.org/event/nbs-mini-relay-for-life/
CATEGORIES:School Events
END:VEVENT
BEGIN:VEVENT
DTSTART;TZID=UTC:20180601T180000
DTEND;TZID=UTC:20180601T203000
DTSTAMP:20260421T034316
CREATED:20180410T163834Z
LAST-MODIFIED:20180410T163834Z
UID:11797-1527876000-1527885000@north-branch-school.org
SUMMARY:End-of-Year Program & 8th Grade Graduation
DESCRIPTION:
URL:https://north-branch-school.org/event/end-of-year-program-8th-grade-graduation/
CATEGORIES:Academic Calendar,School Events
END:VEVENT
BEGIN:VEVENT
DTSTART;TZID=UTC:20180911T183000
DTEND;TZID=UTC:20180911T193000
DTSTAMP:20260421T034316
CREATED:20180904T145114Z
LAST-MODIFIED:20180904T145114Z
UID:12121-1536690600-1536694200@north-branch-school.org
SUMMARY:Preschool and Early Primary Pajama Party
DESCRIPTION:After dinner at home\, please plan to attend this evening to meet with your children’s teachers and learn about this year at NBS. Pajamas are optional for parents\, teachers\, and children. 🙂
URL:https://north-branch-school.org/event/preschool-and-early-primary-pajama-party/
CATEGORIES:School Events
END:VEVENT
BEGIN:VEVENT
DTSTART;TZID=UTC:20180918T160000
DTEND;TZID=UTC:20180918T170000
DTSTAMP:20260421T034316
CREATED:20180904T145634Z
LAST-MODIFIED:20180904T145634Z
UID:12123-1537286400-1537290000@north-branch-school.org
SUMMARY:Primary Blue & Yellow and Juniors Parent-Teacher Meeting
DESCRIPTION:Please attend either the 4PM or 6:30 PM session for your children’s class meeting.
URL:https://north-branch-school.org/event/primary-blue-yellow-and-juniors-parent-teacher-meeting/
CATEGORIES:School Events
END:VEVENT
BEGIN:VEVENT
DTSTART;TZID=UTC:20180918T183000
DTEND;TZID=UTC:20180918T193000
DTSTAMP:20260421T034316
CREATED:20180904T150030Z
LAST-MODIFIED:20180904T150030Z
UID:12125-1537295400-1537299000@north-branch-school.org
SUMMARY:Primary Blue & Yellow and Juniors Parent-Teacher Meeting
DESCRIPTION:Please attend either the 4PM or 6:30 PM session for your children’s class meeting.
URL:https://north-branch-school.org/event/primary-blue-yellow-and-juniors-parent-teacher-meeting-2/
CATEGORIES:School Events
END:VEVENT
BEGIN:VEVENT
DTSTART;TZID=UTC:20180920T183000
DTEND;TZID=UTC:20180920T203000
DTSTAMP:20260421T034316
CREATED:20180904T153409Z
LAST-MODIFIED:20180904T153409Z
UID:12127-1537468200-1537475400@north-branch-school.org
SUMMARY:Board of Trustees Meeting
DESCRIPTION:
URL:https://north-branch-school.org/event/board-of-trustees-meeting-2/
CATEGORIES:School Events
END:VEVENT
BEGIN:VEVENT
DTSTART;TZID=UTC:20180926T160000
DTEND;TZID=UTC:20180926T170000
DTSTAMP:20260421T034316
CREATED:20180904T153640Z
LAST-MODIFIED:20180904T153640Z
UID:12129-1537977600-1537981200@north-branch-school.org
SUMMARY:Seniors & Middle School Parent-Teacher Meeting
DESCRIPTION:Please attend either the 4PM or 6:30 PM session for your children’s class meeting.
URL:https://north-branch-school.org/event/seniors-middle-school-parent-teacher-meeting/
CATEGORIES:School Events
END:VEVENT
BEGIN:VEVENT
DTSTART;TZID=UTC:20180926T183000
DTEND;TZID=UTC:20180926T193000
DTSTAMP:20260421T034316
CREATED:20180904T153857Z
LAST-MODIFIED:20180904T153857Z
UID:12131-1537986600-1537990200@north-branch-school.org
SUMMARY:Seniors & Middle School Parent-Teacher Meeting
DESCRIPTION:Please attend either the 4PM or 6:30 PM session for your children’s class meeting.
URL:https://north-branch-school.org/event/seniors-middle-school-parent-teacher-meeting-2/
CATEGORIES:School Events
END:VEVENT
BEGIN:VEVENT
DTSTART;VALUE=DATE:20181019
DTEND;VALUE=DATE:20181020
DTSTAMP:20260421T034316
CREATED:20180723T174056Z
LAST-MODIFIED:20180723T174056Z
UID:11999-1539907200-1539993599@north-branch-school.org
SUMMARY:Grandparents' Day
DESCRIPTION:One of our favorite days of the year!  Look for an updated schedule.  Right now it’s listed as all day\, but there will be different times for younger and older students’ grandparents to arrive.
URL:https://north-branch-school.org/event/grandparents-day-3/
CATEGORIES:School Events
END:VEVENT
BEGIN:VEVENT
DTSTART;TZID=UTC:20181120T173000
DTEND;TZID=UTC:20181120T193000
DTSTAMP:20260421T034316
CREATED:20180723T180344Z
LAST-MODIFIED:20180723T180344Z
UID:12005-1542735000-1542742200@north-branch-school.org
SUMMARY:Thanksgiving supper & program
DESCRIPTION:Students prepare a simple meal of soup and cornbread to share with their families and present a program of songs and written word.
URL:https://north-branch-school.org/event/thanksgiving-supper-program-2/
CATEGORIES:School Events
END:VEVENT
BEGIN:VEVENT
DTSTART;TZID=UTC:20181221T133000
DTEND;TZID=UTC:20181221T150000
DTSTAMP:20260421T034316
CREATED:20180723T181513Z
LAST-MODIFIED:20180723T181513Z
UID:12012-1545399000-1545404400@north-branch-school.org
SUMMARY:St. George and the Dragon
DESCRIPTION:A North Branch tradition!
URL:https://north-branch-school.org/event/st-george-and-the-dragon/
LOCATION:Rockfish Valley Community Center\, 190 Rockfish School Lane\, Afton\, VA\, 22920\, United States
CATEGORIES:School Events
END:VEVENT
BEGIN:VEVENT
DTSTART;TZID=UTC:20181221T190000
DTEND;TZID=UTC:20181221T210000
DTSTAMP:20260421T034316
CREATED:20180723T181645Z
LAST-MODIFIED:20180723T181645Z
UID:12014-1545418800-1545426000@north-branch-school.org
SUMMARY:St. George and the Dragon
DESCRIPTION:A North Branch tradition!
URL:https://north-branch-school.org/event/st-george-and-the-dragon-2/
LOCATION:Rockfish Valley Community Center\, 190 Rockfish School Lane\, Afton\, VA\, 22920\, United States
CATEGORIES:School Events
END:VEVENT
BEGIN:VEVENT
DTSTART;TZID=UTC:20190115T183000
DTEND;TZID=UTC:20190115T203000
DTSTAMP:20260421T034316
CREATED:20190108T180548Z
LAST-MODIFIED:20190108T180548Z
UID:12736-1547577000-1547584200@north-branch-school.org
SUMMARY:Board of Trustees meeting
DESCRIPTION:Any adult member of the school community is welcome to attend the open session portion of this meeting. 
URL:https://north-branch-school.org/event/board-of-trustees-meeting-3/
CATEGORIES:School Events
END:VEVENT
BEGIN:VEVENT
DTSTART;TZID=UTC:20190212T093000
DTEND;TZID=UTC:20190212T113000
DTSTAMP:20260421T034316
CREATED:20190104T144518Z
LAST-MODIFIED:20190104T144736Z
UID:12715-1549963800-1549971000@north-branch-school.org
SUMMARY:Open House - tour NBS
DESCRIPTION:Meet teachers and parents\, observe in classes. No appointment needed. \nInclement weather date: Friday\, February 15
URL:https://north-branch-school.org/event/open-house-tour-nbs/
CATEGORIES:Academic Calendar,School Events
END:VEVENT
BEGIN:VEVENT
DTSTART;TZID=UTC:20190212T173000
DTEND;TZID=UTC:20190212T193000
DTSTAMP:20260421T034316
CREATED:20190104T144647Z
LAST-MODIFIED:20190104T144647Z
UID:12717-1549992600-1549999800@north-branch-school.org
SUMMARY:Open House - Tour NBS
DESCRIPTION:Meet teachers and parents\, observe in classes. No appointment needed. \nInclement weather date: Friday\, February 15
URL:https://north-branch-school.org/event/open-house-tour-nbs-2/
CATEGORIES:Academic Calendar,School Events
END:VEVENT
BEGIN:VEVENT
DTSTART;TZID=UTC:20190221T183000
DTEND;TZID=UTC:20190221T203000
DTSTAMP:20260421T034316
CREATED:20190108T181144Z
LAST-MODIFIED:20190108T181144Z
UID:12740-1550773800-1550781000@north-branch-school.org
SUMMARY:Board of Trustees meeting
DESCRIPTION:Any adult member of the school community is welcome to attend the open session of the meeting.
URL:https://north-branch-school.org/event/board-of-trustees-meeting-4/
CATEGORIES:School Events
END:VEVENT
BEGIN:VEVENT
DTSTART;TZID=UTC:20190319T183000
DTEND;TZID=UTC:20190319T203000
DTSTAMP:20260421T034316
CREATED:20190108T181348Z
LAST-MODIFIED:20190108T181348Z
UID:12742-1553020200-1553027400@north-branch-school.org
SUMMARY:Board of Trustees meeting
DESCRIPTION:Any adult member of the school community is welcome to attend the open session of the meeting.
URL:https://north-branch-school.org/event/board-of-trustees-meeting-5/
CATEGORIES:School Events
END:VEVENT
BEGIN:VEVENT
DTSTART;VALUE=DATE:20190422
DTEND;VALUE=DATE:20190423
DTSTAMP:20260421T034316
CREATED:20190312T164517Z
LAST-MODIFIED:20190312T164517Z
UID:12936-1555891200-1555977599@north-branch-school.org
SUMMARY:School Earth Day Celebration
DESCRIPTION:
URL:https://north-branch-school.org/event/school-earth-day-celebration/
CATEGORIES:School Events
END:VEVENT
BEGIN:VEVENT
DTSTART;TZID=UTC:20190428T140000
DTEND;TZID=UTC:20190428T160000
DTSTAMP:20260421T034316
CREATED:20190320T184336Z
LAST-MODIFIED:20190320T184336Z
UID:12981-1556460000-1556467200@north-branch-school.org
SUMMARY:Welcome Reception
DESCRIPTION:Welcome Reception for newly-named Head of School\, Smith Coleman\, and his family.
URL:https://north-branch-school.org/event/welcome-reception/
CATEGORIES:School Events
END:VEVENT
BEGIN:VEVENT
DTSTART;TZID=UTC:20190530T180000
DTEND;TZID=UTC:20190530T200000
DTSTAMP:20260421T034316
CREATED:20180828T162343Z
LAST-MODIFIED:20180828T162343Z
UID:12077-1559239200-1559246400@north-branch-school.org
SUMMARY:8th Grade Graduation and End-of-Year Program
DESCRIPTION:
URL:https://north-branch-school.org/event/8th-grade-graduation-and-end-of-year-program/
CATEGORIES:Academic Calendar,School Events
END:VEVENT
BEGIN:VEVENT
DTSTART;TZID=UTC:20190602T130000
DTEND;TZID=UTC:20190602T160000
DTSTAMP:20260421T034316
CREATED:20190419T144822Z
LAST-MODIFIED:20190419T144822Z
UID:13065-1559480400-1559491200@north-branch-school.org
SUMMARY:Open House in honor of Charlotte
DESCRIPTION:Please join us as we honor our retiring Founder and Head Teacher\, Charlotte Zinsser Booth.  There will be a special presentation at 2PM. \nCharlotte asked for a potluck\, so please bring finger foods to share.
URL:https://north-branch-school.org/event/open-house-in-honor-of-charlotte/
CATEGORIES:School Events
END:VEVENT
BEGIN:VEVENT
DTSTART;TZID=UTC:20190820T093000
DTEND;TZID=UTC:20190820T113000
DTSTAMP:20260421T034316
CREATED:20190711T155352Z
LAST-MODIFIED:20190711T155352Z
UID:13302-1566293400-1566300600@north-branch-school.org
SUMMARY:Preschool Play Day
DESCRIPTION:Students and parents\, check out the classroom and playground\, meet teachers and other families!
URL:https://north-branch-school.org/event/preschool-play-day/
CATEGORIES:School Events
END:VEVENT
BEGIN:VEVENT
DTSTART;TZID=UTC:20190827T093000
DTEND;TZID=UTC:20190827T113000
DTSTAMP:20260421T034316
CREATED:20190807T153257Z
LAST-MODIFIED:20190807T153257Z
UID:13327-1566898200-1566905400@north-branch-school.org
SUMMARY:Early Primary Play Day
DESCRIPTION:Students and parents\, this is a great chance to meet others\, say hello to Genevieve\, and check out the classroom and playground before school starts.
URL:https://north-branch-school.org/event/early-primary-play-day/
CATEGORIES:School Events
END:VEVENT
BEGIN:VEVENT
DTSTART;TZID=UTC:20190909T183000
DTEND;TZID=UTC:20190909T203000
DTSTAMP:20260421T034316
CREATED:20190903T145346Z
LAST-MODIFIED:20190903T145346Z
UID:13364-1568053800-1568061000@north-branch-school.org
SUMMARY:Board of Trustees Meeting
DESCRIPTION:Any adult member of the school community is welcome to attend the open session of the board meeting. If you have an item you would like on the agenda\, please let our administrator\, Autum Fish\, know prior to the meeting.
URL:https://north-branch-school.org/event/board-of-trustees-meeting-6/
CATEGORIES:School Events
END:VEVENT
BEGIN:VEVENT
DTSTART;TZID=UTC:20190910T180000
DTEND;TZID=UTC:20190910T190000
DTSTAMP:20260421T034316
CREATED:20190903T144627Z
LAST-MODIFIED:20190903T144627Z
UID:13358-1568138400-1568142000@north-branch-school.org
SUMMARY:Preschool Parent-Teacher Meet & Greet
DESCRIPTION:After dinner at home\, please plan to attend this evening to meet with your children’s teachers and learn about this year at North Branch.
URL:https://north-branch-school.org/event/preschool-parent-teacher-meet-greet/
CATEGORIES:School Events
END:VEVENT
BEGIN:VEVENT
DTSTART;TZID=UTC:20191018T133000
DTEND;TZID=UTC:20191018T153000
DTSTAMP:20260421T034316
CREATED:20190711T150036Z
LAST-MODIFIED:20190711T151058Z
UID:13263-1571405400-1571412600@north-branch-school.org
SUMMARY:Grandparents' Day
DESCRIPTION:Welcome\, grandparents!    \nPreschool and Early Primary grandparents – please join us at 11:30 and bring a lunch for yourself. \nSchool-age grandparents – please join us after lunch at 1:30. There will be a special assembly.
URL:https://north-branch-school.org/event/grandparents-day-4/
CATEGORIES:School Events
END:VEVENT
BEGIN:VEVENT
DTSTART;TZID=UTC:20191031T123000
DTEND;TZID=UTC:20191031T124500
DTSTAMP:20260421T034316
CREATED:20191011T154751Z
LAST-MODIFIED:20191011T154751Z
UID:13499-1572525000-1572525900@north-branch-school.org
SUMMARY:Preschool Costume Parade
DESCRIPTION:
URL:https://north-branch-school.org/event/preschool-costume-parade/
CATEGORIES:School Events
END:VEVENT
BEGIN:VEVENT
DTSTART;TZID=UTC:20191110T150000
DTEND;TZID=UTC:20191110T150000
DTSTAMP:20260421T034316
CREATED:20191011T155035Z
LAST-MODIFIED:20191024T185409Z
UID:13501-1573398000-1573398000@north-branch-school.org
SUMMARY:Advisory Council Session
DESCRIPTION:Advisory Council is open to any interested NBS parents\, grandparents\, or friends who want to hear more about Smith’s vision for the school and the October 2020 festival that is being organized to benefit NBS. RSVP to Bonnie is appreciated\, but optional – giving@nbsva.org  We would love your input and ideas! \nAgenda \n3:00 – 3:15   Welcome and Introductions \n3:15 – 3:25   Vision – Smith Coleman \n3:25 – 3:40   Comments/Questions \n3:40 – 4:45   Overview & discussion \n\nLocal Fest\, October 2020\n\n4:45 – 5:00   Concluding remarks and recap \nWe’ll meet at North Branch School. Light refreshments provided. \nRSVP is welcome but optional. If you haven’t replied and find you can make it\, please join us! (RSVP to Bonnie Holliday\, Development Director: giving@nbsva.org or 434-989-2447)
URL:https://north-branch-school.org/event/advisory-council-session/
CATEGORIES:School Events
END:VEVENT
BEGIN:VEVENT
DTSTART;TZID=UTC:20191122T153000
DTEND;TZID=UTC:20191122T170000
DTSTAMP:20260421T034316
CREATED:20190711T151326Z
LAST-MODIFIED:20191111T172138Z
UID:13267-1574436600-1574442000@north-branch-school.org
SUMMARY:NBS Thanksgiving Stone Soup
DESCRIPTION:
URL:https://north-branch-school.org/event/nbs-thanksgiving-celebration/
CATEGORIES:School Events
END:VEVENT
BEGIN:VEVENT
DTSTART;TZID=UTC:20191220T133000
DTEND;TZID=UTC:20191220T153000
DTSTAMP:20260421T034316
CREATED:20190711T152326Z
LAST-MODIFIED:20190711T152326Z
UID:13278-1576848600-1576855800@north-branch-school.org
SUMMARY:St. George & The Dragon afternoon show
DESCRIPTION:
URL:https://north-branch-school.org/event/st-george-the-dragon-afternoon-show/
LOCATION:Rockfish Valley Community Center\, 190 Rockfish School Lane\, Afton\, VA\, 22920\, United States
CATEGORIES:School Events
END:VEVENT
END:VCALENDAR