BEGIN:VCALENDAR
VERSION:2.0
PRODID:-//North Branch School - ECPv6.15.0.1//NONSGML v1.0//EN
CALSCALE:GREGORIAN
METHOD:PUBLISH
X-WR-CALNAME:North Branch School
X-ORIGINAL-URL:https://north-branch-school.org
X-WR-CALDESC:Events for North Branch School
REFRESH-INTERVAL;VALUE=DURATION:PT1H
X-Robots-Tag:noindex
X-PUBLISHED-TTL:PT1H
BEGIN:VTIMEZONE
TZID:UTC
BEGIN:STANDARD
TZOFFSETFROM:+0000
TZOFFSETTO:+0000
TZNAME:UTC
DTSTART:20160101T000000
END:STANDARD
END:VTIMEZONE
BEGIN:VEVENT
DTSTART;TZID=UTC:20160916T180000
DTEND;TZID=UTC:20160916T193000
DTSTAMP:20260422T113410
CREATED:20160909T155827Z
LAST-MODIFIED:20160909T155827Z
UID:9642-1474048800-1474054200@north-branch-school.org
SUMMARY:Back-to-School Night-Preschool\, Early Primary\, Primary Blue
DESCRIPTION:Bring a dish to share with the group and meet other families in the school. (Children are welcome but do not need to attend.) Please note: This is an opportunity to hear about expectations for the class in general. If you wish to discuss your child in particular prior to the November Parent-Teacher conferences\, please schedule another conference time with your child’s teacher.
URL:https://north-branch-school.org/event/back-to-school-night-preschool-early-primary-primary-blue/
LOCATION:North Branch School\, 221 Mickens Road\, Afton\, VA\, 22920
CATEGORIES:Academic Calendar,School Events
END:VEVENT
BEGIN:VEVENT
DTSTART;TZID=UTC:20160920T180000
DTEND;TZID=UTC:20160920T200000
DTSTAMP:20260422T113410
CREATED:20160909T155954Z
LAST-MODIFIED:20160909T155954Z
UID:9643-1474394400-1474401600@north-branch-school.org
SUMMARY:Back-to-School Night-Primary Yellow & Juniors
DESCRIPTION:Bring a dish to share with the group and meet other families in the school. (Children are welcome but do not need to attend.) Please note: This is an opportunity to hear about expectations for the class in general. If you wish to discuss your child in particular prior to the November Parent-Teacher conferences\, please schedule another conference time with your child’s teacher.
URL:https://north-branch-school.org/event/back-to-school-night-primary-yellow-juniors/
LOCATION:North Branch School\, 221 Mickens Road\, Afton\, VA\, 22920
CATEGORIES:Academic Calendar,School Events
END:VEVENT
BEGIN:VEVENT
DTSTART;TZID=UTC:20160927T130000
DTEND;TZID=UTC:20160927T143000
DTSTAMP:20260422T113410
CREATED:20160923T200034Z
LAST-MODIFIED:20160923T200034Z
UID:9745-1474981200-1474986600@north-branch-school.org
SUMMARY:Who Really Discovered America?
DESCRIPTION:Middle Schoolers will represent explorers and peoples\, all claiming to have discovered America.  Come listen and decide for yourself.
URL:https://north-branch-school.org/event/who-really-discovered-america/
LOCATION:North Branch School\, 221 Mickens Road\, Afton\, VA\, 22920
CATEGORIES:School Events
END:VEVENT
BEGIN:VEVENT
DTSTART;TZID=UTC:20160927T180000
DTEND;TZID=UTC:20160927T200000
DTSTAMP:20260422T113410
CREATED:20160909T160111Z
LAST-MODIFIED:20160909T160111Z
UID:9644-1474999200-1475006400@north-branch-school.org
SUMMARY:Back-to-School Night-Seniors & Middle School
DESCRIPTION:Bring a dish to share with the group and meet other families in the school. (Children are welcome but do not need to attend.) Please note: This is an opportunity to hear about expectations for the class in general. If you wish to discuss your child in particular prior to the November Parent-Teacher conferences\, please schedule another conference time with your child’s teacher.
URL:https://north-branch-school.org/event/back-to-school-night-seniors-middle-school/
LOCATION:North Branch School\, 221 Mickens Road\, Afton\, VA\, 22920
CATEGORIES:Academic Calendar,School Events
END:VEVENT
BEGIN:VEVENT
DTSTART;VALUE=DATE:20160930
DTEND;VALUE=DATE:20161001
DTSTAMP:20260422T113410
CREATED:20160920T151520Z
LAST-MODIFIED:20160920T151520Z
UID:9731-1475193600-1475279999@north-branch-school.org
SUMMARY:School Pictures
DESCRIPTION:Preschool – Juniors
URL:https://north-branch-school.org/event/school-pictures-2/
LOCATION:North Branch School\, 221 Mickens Road\, Afton\, VA\, 22920
CATEGORIES:School Events
END:VEVENT
END:VCALENDAR