BEGIN:VCALENDAR
VERSION:2.0
PRODID:-//North Branch School - ECPv6.15.0.1//NONSGML v1.0//EN
CALSCALE:GREGORIAN
METHOD:PUBLISH
X-WR-CALNAME:North Branch School
X-ORIGINAL-URL:https://north-branch-school.org
X-WR-CALDESC:Events for North Branch School
REFRESH-INTERVAL;VALUE=DURATION:PT1H
X-Robots-Tag:noindex
X-PUBLISHED-TTL:PT1H
BEGIN:VTIMEZONE
TZID:UTC
BEGIN:STANDARD
TZOFFSETFROM:+0000
TZOFFSETTO:+0000
TZNAME:UTC
DTSTART:20250101T000000
END:STANDARD
END:VTIMEZONE
BEGIN:VEVENT
DTSTART;VALUE=DATE:20251202
DTEND;VALUE=DATE:20251203
DTSTAMP:20260421T044625
CREATED:20250806T173945Z
LAST-MODIFIED:20250806T173945Z
UID:19151-1764633600-1764719999@north-branch-school.org
SUMMARY:#GivingTuesday
DESCRIPTION:A great chance double your giving while supporting North Branch School. See more here:\n https://north-branch-school.org/fundraising/givingtuesday/
URL:https://north-branch-school.org/event/givingtuesday-8/
LOCATION:VA
CATEGORIES:Fun & Fundraising Events
END:VEVENT
BEGIN:VEVENT
DTSTART;VALUE=DATE:20251205
DTEND;VALUE=DATE:20251206
DTSTAMP:20260421T044625
CREATED:20250806T174038Z
LAST-MODIFIED:20250806T174038Z
UID:19153-1764892800-1764979199@north-branch-school.org
SUMMARY:Holiday Craft Fair
DESCRIPTION:
URL:https://north-branch-school.org/event/holiday-craft-fair-6/
LOCATION:VA
CATEGORIES:Fun & Fundraising Events
END:VEVENT
BEGIN:VEVENT
DTSTART;TZID=UTC:20251205T083000
DTEND;TZID=UTC:20251205T173000
DTSTAMP:20260421T044625
CREATED:20250806T180005Z
LAST-MODIFIED:20250806T180005Z
UID:19168-1764923400-1764955800@north-branch-school.org
SUMMARY:First Friday Coffee Time
DESCRIPTION:Join us for coffee\, tea\, and treats. This is a great time to get to know other families. Then shop at the Holiday Crafts Fair!
URL:https://north-branch-school.org/event/first-friday-coffee-time-14/
LOCATION:VA
CATEGORIES:Fun & Fundraising Events,School Events
END:VEVENT
END:VCALENDAR