BEGIN:VCALENDAR
VERSION:2.0
PRODID:-//North Branch School - ECPv6.15.0.1//NONSGML v1.0//EN
CALSCALE:GREGORIAN
METHOD:PUBLISH
X-ORIGINAL-URL:https://north-branch-school.org
X-WR-CALDESC:Events for North Branch School
REFRESH-INTERVAL;VALUE=DURATION:PT1H
X-Robots-Tag:noindex
X-PUBLISHED-TTL:PT1H
BEGIN:VTIMEZONE
TZID:UTC
BEGIN:STANDARD
TZOFFSETFROM:+0000
TZOFFSETTO:+0000
TZNAME:UTC
DTSTART:20170101T000000
END:STANDARD
END:VTIMEZONE
BEGIN:VEVENT
DTSTART;VALUE=DATE:20171107
DTEND;VALUE=DATE:20171108
DTSTAMP:20260421T134448
CREATED:20170706T183531Z
LAST-MODIFIED:20170706T193644Z
UID:10805-1510012800-1510099199@north-branch-school.org
SUMMARY:Parent-Teacher Conferences - no school for students
DESCRIPTION:Sign up for a time to speak with your child’s teacher.
URL:https://north-branch-school.org/event/parent-teacher-conferences-no-school-for-students-2/
CATEGORIES:Academic Calendar
END:VEVENT
BEGIN:VEVENT
DTSTART;VALUE=DATE:20171122
DTEND;VALUE=DATE:20171127
DTSTAMP:20260421T134448
CREATED:20170706T190738Z
LAST-MODIFIED:20170706T190738Z
UID:10811-1511308800-1511740799@north-branch-school.org
SUMMARY:Fall Break - school closed
DESCRIPTION:
URL:https://north-branch-school.org/event/fall-break-school-closed/
CATEGORIES:Academic Calendar
END:VEVENT
BEGIN:VEVENT
DTSTART;VALUE=DATE:20171221
DTEND;VALUE=DATE:20180104
DTSTAMP:20260421T134448
CREATED:20170706T193313Z
LAST-MODIFIED:20171009T184318Z
UID:10819-1513814400-1515023999@north-branch-school.org
SUMMARY:Winter Break
DESCRIPTION:School will reopen on January 4.
URL:https://north-branch-school.org/event/winter-break-2/
CATEGORIES:Academic Calendar
END:VEVENT
BEGIN:VEVENT
DTSTART;VALUE=DATE:20180115
DTEND;VALUE=DATE:20180116
DTSTAMP:20260421T134448
CREATED:20170707T182153Z
LAST-MODIFIED:20170707T182153Z
UID:10830-1515974400-1516060799@north-branch-school.org
SUMMARY:School in Session
DESCRIPTION:Join us as we celebrate the life and works of Dr. King.
URL:https://north-branch-school.org/event/school-in-session/
LOCATION:North Branch School\, 221 Mickens Road\, Afton\, VA\, 22920
CATEGORIES:Academic Calendar
END:VEVENT
BEGIN:VEVENT
DTSTART;VALUE=DATE:20180214
DTEND;VALUE=DATE:20180215
DTSTAMP:20260421T134448
CREATED:20180202T175831Z
LAST-MODIFIED:20180202T180312Z
UID:11518-1518566400-1518652799@north-branch-school.org
SUMMARY:Letter of Intent due for current families
DESCRIPTION:Please contact our Administrator\, Autum Fish\, if you have questions.  info@north-branch-school.org\, 540-456-8450
URL:https://north-branch-school.org/event/letter-of-intent-due-for-current-families/
CATEGORIES:Academic Calendar
END:VEVENT
BEGIN:VEVENT
DTSTART;VALUE=DATE:20180219
DTEND;VALUE=DATE:20180220
DTSTAMP:20260421T134448
CREATED:20170707T184827Z
LAST-MODIFIED:20170707T184827Z
UID:10834-1518998400-1519084799@north-branch-school.org
SUMMARY:School Closed
DESCRIPTION:
URL:https://north-branch-school.org/event/school-closed-2/
CATEGORIES:Academic Calendar
END:VEVENT
BEGIN:VEVENT
DTSTART;VALUE=DATE:20180220
DTEND;VALUE=DATE:20180221
DTSTAMP:20260421T134448
CREATED:20170707T184951Z
LAST-MODIFIED:20170707T184951Z
UID:10836-1519084800-1519171199@north-branch-school.org
SUMMARY:School Closed Unless Needed as a Snow Make-Up Day
DESCRIPTION:
URL:https://north-branch-school.org/event/school-closed-unless-needed-as-a-snow-make-up-day/
CATEGORIES:Academic Calendar
END:VEVENT
BEGIN:VEVENT
DTSTART;VALUE=DATE:20180221
DTEND;VALUE=DATE:20180222
DTSTAMP:20260421T134448
CREATED:20170707T185051Z
LAST-MODIFIED:20170707T185051Z
UID:10838-1519171200-1519257599@north-branch-school.org
SUMMARY:School Closed Unless Needed as a Snow Make-Up Day
DESCRIPTION:
URL:https://north-branch-school.org/event/school-closed-unless-needed-as-a-snow-make-up-day-2/
CATEGORIES:Academic Calendar
END:VEVENT
BEGIN:VEVENT
DTSTART;VALUE=DATE:20180314
DTEND;VALUE=DATE:20180315
DTSTAMP:20260421T134448
CREATED:20180202T184532Z
LAST-MODIFIED:20180202T184532Z
UID:11524-1520985600-1521071999@north-branch-school.org
SUMMARY:Contracts due
DESCRIPTION:
URL:https://north-branch-school.org/event/contracts-due-2/
CATEGORIES:Academic Calendar
END:VEVENT
BEGIN:VEVENT
DTSTART;VALUE=DATE:20180402
DTEND;VALUE=DATE:20180407
DTSTAMP:20260421T134448
CREATED:20170707T185308Z
LAST-MODIFIED:20170707T185417Z
UID:10840-1522627200-1523059199@north-branch-school.org
SUMMARY:Spring Break
DESCRIPTION:School will be closed all week. We look forward to seeing everyone on Monday\, April 9th.
URL:https://north-branch-school.org/event/spring-break-2/
CATEGORIES:Academic Calendar
END:VEVENT
BEGIN:VEVENT
DTSTART;VALUE=DATE:20180528
DTEND;VALUE=DATE:20180529
DTSTAMP:20260421T134448
CREATED:20180410T162620Z
LAST-MODIFIED:20180410T162620Z
UID:11793-1527465600-1527551999@north-branch-school.org
SUMMARY:School Closed
DESCRIPTION:
URL:https://north-branch-school.org/event/school-closed-3/
CATEGORIES:Academic Calendar
END:VEVENT
BEGIN:VEVENT
DTSTART;TZID=UTC:20180601T180000
DTEND;TZID=UTC:20180601T203000
DTSTAMP:20260421T134448
CREATED:20180410T163834Z
LAST-MODIFIED:20180410T163834Z
UID:11797-1527876000-1527885000@north-branch-school.org
SUMMARY:End-of-Year Program & 8th Grade Graduation
DESCRIPTION:
URL:https://north-branch-school.org/event/end-of-year-program-8th-grade-graduation/
CATEGORIES:Academic Calendar,School Events
END:VEVENT
BEGIN:VEVENT
DTSTART;TZID=UTC:20180821T093000
DTEND;TZID=UTC:20180821T113000
DTSTAMP:20260421T134448
CREATED:20180723T170725Z
LAST-MODIFIED:20180723T170725Z
UID:11991-1534843800-1534851000@north-branch-school.org
SUMMARY:Preschool & Early Primary Play Day
DESCRIPTION:Preschool and Early Primary students and their parents are invited to join us to see what’s new at school\, meet teachers and other families\, and take a peek in classrooms.
URL:https://north-branch-school.org/event/preschool-early-primary-play-day-2/
CATEGORIES:Academic Calendar
END:VEVENT
BEGIN:VEVENT
DTSTART;VALUE=DATE:20180903
DTEND;VALUE=DATE:20180904
DTSTAMP:20260421T134448
CREATED:20180723T171037Z
LAST-MODIFIED:20180723T171037Z
UID:11993-1535932800-1536019199@north-branch-school.org
SUMMARY:School Closed
DESCRIPTION:
URL:https://north-branch-school.org/event/school-closed-4/
CATEGORIES:Academic Calendar
END:VEVENT
BEGIN:VEVENT
DTSTART;VALUE=DATE:20181008
DTEND;VALUE=DATE:20181009
DTSTAMP:20260421T134448
CREATED:20180723T171149Z
LAST-MODIFIED:20180723T171149Z
UID:11995-1538956800-1539043199@north-branch-school.org
SUMMARY:School Closed for Teacher Workday
DESCRIPTION:
URL:https://north-branch-school.org/event/school-closed-for-teacher-workday/
CATEGORIES:Academic Calendar
END:VEVENT
BEGIN:VEVENT
DTSTART;TZID=UTC:20181106T080000
DTEND;TZID=UTC:20181106T170000
DTSTAMP:20260421T134448
CREATED:20180801T172347Z
LAST-MODIFIED:20180801T172347Z
UID:12026-1541491200-1541523600@north-branch-school.org
SUMMARY:Parent-Teacher Conferences\, No School for Students
DESCRIPTION:
URL:https://north-branch-school.org/event/parent-teacher-conferences-no-school-for-students-3/
CATEGORIES:Academic Calendar
END:VEVENT
BEGIN:VEVENT
DTSTART;TZID=UTC:20181121T080000
DTEND;TZID=UTC:20181125T170000
DTSTAMP:20260421T134448
CREATED:20180723T180503Z
LAST-MODIFIED:20180723T180503Z
UID:12007-1542787200-1543165200@north-branch-school.org
SUMMARY:School closed for Fall Break
DESCRIPTION:
URL:https://north-branch-school.org/event/school-closed-for-fall-break/
CATEGORIES:Academic Calendar
END:VEVENT
BEGIN:VEVENT
DTSTART;VALUE=DATE:20181224
DTEND;VALUE=DATE:20190103
DTSTAMP:20260421T134448
CREATED:20180723T182221Z
LAST-MODIFIED:20180723T182221Z
UID:12018-1545609600-1546473599@north-branch-school.org
SUMMARY:School closed for Winter Break
DESCRIPTION:Enjoy!  We’ll see everyone next year!
URL:https://north-branch-school.org/event/school-closed-for-winter-break/
CATEGORIES:Academic Calendar
END:VEVENT
BEGIN:VEVENT
DTSTART;VALUE=DATE:20190103
DTEND;VALUE=DATE:20190104
DTSTAMP:20260421T134448
CREATED:20180723T182309Z
LAST-MODIFIED:20180723T182309Z
UID:12020-1546473600-1546559999@north-branch-school.org
SUMMARY:School Reopens following Winter Break
DESCRIPTION:
URL:https://north-branch-school.org/event/school-reopens-following-winter-break/
CATEGORIES:Academic Calendar
END:VEVENT
BEGIN:VEVENT
DTSTART;VALUE=DATE:20190121
DTEND;VALUE=DATE:20190122
DTSTAMP:20260421T134448
CREATED:20180723T182922Z
LAST-MODIFIED:20180723T182922Z
UID:12022-1548028800-1548115199@north-branch-school.org
SUMMARY:School in Session to celebrate life & works of Dr. King
DESCRIPTION:
URL:https://north-branch-school.org/event/school-in-session-to-celebrate-life-works-of-dr-king/
CATEGORIES:Academic Calendar
END:VEVENT
BEGIN:VEVENT
DTSTART;TZID=UTC:20190212T093000
DTEND;TZID=UTC:20190212T113000
DTSTAMP:20260421T134448
CREATED:20190104T144518Z
LAST-MODIFIED:20190104T144736Z
UID:12715-1549963800-1549971000@north-branch-school.org
SUMMARY:Open House - tour NBS
DESCRIPTION:Meet teachers and parents\, observe in classes. No appointment needed. \nInclement weather date: Friday\, February 15
URL:https://north-branch-school.org/event/open-house-tour-nbs/
CATEGORIES:Academic Calendar,School Events
END:VEVENT
BEGIN:VEVENT
DTSTART;TZID=UTC:20190212T173000
DTEND;TZID=UTC:20190212T193000
DTSTAMP:20260421T134448
CREATED:20190104T144647Z
LAST-MODIFIED:20190104T144647Z
UID:12717-1549992600-1549999800@north-branch-school.org
SUMMARY:Open House - Tour NBS
DESCRIPTION:Meet teachers and parents\, observe in classes. No appointment needed. \nInclement weather date: Friday\, February 15
URL:https://north-branch-school.org/event/open-house-tour-nbs-2/
CATEGORIES:Academic Calendar,School Events
END:VEVENT
BEGIN:VEVENT
DTSTART;VALUE=DATE:20190218
DTEND;VALUE=DATE:20190221
DTSTAMP:20260421T134448
CREATED:20190108T181028Z
LAST-MODIFIED:20190108T181230Z
UID:12738-1550448000-1550707199@north-branch-school.org
SUMMARY:School closed for Midwinter break
DESCRIPTION:February 19 & 20 may be used as snow make-up days if needed.
URL:https://north-branch-school.org/event/school-closed-for-midwinter-break/
CATEGORIES:Academic Calendar
END:VEVENT
BEGIN:VEVENT
DTSTART;VALUE=DATE:20190401
DTEND;VALUE=DATE:20190406
DTSTAMP:20260421T134448
CREATED:20190108T181559Z
LAST-MODIFIED:20190108T181559Z
UID:12745-1554076800-1554508799@north-branch-school.org
SUMMARY:Spring Break
DESCRIPTION:
URL:https://north-branch-school.org/event/spring-break-3/
CATEGORIES:Academic Calendar
END:VEVENT
BEGIN:VEVENT
DTSTART;VALUE=DATE:20190527
DTEND;VALUE=DATE:20190528
DTSTAMP:20260421T134448
CREATED:20180828T162455Z
LAST-MODIFIED:20180828T162455Z
UID:12079-1558915200-1559001599@north-branch-school.org
SUMMARY:School closed for Memorial Day
DESCRIPTION:
URL:https://north-branch-school.org/event/school-closed-for-memorial-day/
CATEGORIES:Academic Calendar
END:VEVENT
BEGIN:VEVENT
DTSTART;VALUE=DATE:20190529
DTEND;VALUE=DATE:20190530
DTSTAMP:20260421T134448
CREATED:20180828T162621Z
LAST-MODIFIED:20180828T162621Z
UID:12081-1559088000-1559174399@north-branch-school.org
SUMMARY:School in session for Primaries and Juniors
DESCRIPTION:
URL:https://north-branch-school.org/event/school-in-session-for-primaries-and-juniors/
CATEGORIES:Academic Calendar
END:VEVENT
BEGIN:VEVENT
DTSTART;TZID=UTC:20190530T180000
DTEND;TZID=UTC:20190530T200000
DTSTAMP:20260421T134448
CREATED:20180828T162343Z
LAST-MODIFIED:20180828T162343Z
UID:12077-1559239200-1559246400@north-branch-school.org
SUMMARY:8th Grade Graduation and End-of-Year Program
DESCRIPTION:
URL:https://north-branch-school.org/event/8th-grade-graduation-and-end-of-year-program/
CATEGORIES:Academic Calendar,School Events
END:VEVENT
BEGIN:VEVENT
DTSTART;VALUE=DATE:20190829
DTEND;VALUE=DATE:20190830
DTSTAMP:20260421T134448
CREATED:20190524T151227Z
LAST-MODIFIED:20190524T151227Z
UID:13216-1567036800-1567036800@north-branch-school.org
SUMMARY:1st Day of School!
DESCRIPTION:
URL:https://north-branch-school.org/event/1st-day-of-school/
CATEGORIES:Academic Calendar
END:VEVENT
BEGIN:VEVENT
DTSTART;VALUE=DATE:20190902
DTEND;VALUE=DATE:20190903
DTSTAMP:20260421T134448
CREATED:20190524T151429Z
LAST-MODIFIED:20190524T151429Z
UID:13218-1567382400-1567382400@north-branch-school.org
SUMMARY:School closed for Labor Day
DESCRIPTION:
URL:https://north-branch-school.org/event/school-closed-for-labor-day-2/
CATEGORIES:Academic Calendar
END:VEVENT
BEGIN:VEVENT
DTSTART;TZID=UTC:20190917T160000
DTEND;TZID=UTC:20190917T170000
DTSTAMP:20260421T134448
CREATED:20190903T144935Z
LAST-MODIFIED:20190903T144935Z
UID:13360-1568736000-1568739600@north-branch-school.org
SUMMARY:Early Primary - Middle School Parent-Teacher Meet & Greet
DESCRIPTION:Please attend EITHER the 4-5 PM OR 6:30-7:30 PM session for your children’s class meeting. We plan on seeing every family; you decide which session to attend.
URL:https://north-branch-school.org/event/early-primary-middle-school-parent-teacher-meet-greet/
CATEGORIES:Academic Calendar
END:VEVENT
END:VCALENDAR