BEGIN:VCALENDAR
VERSION:2.0
PRODID:-//North Branch School - ECPv6.15.0.1//NONSGML v1.0//EN
CALSCALE:GREGORIAN
METHOD:PUBLISH
X-WR-CALNAME:North Branch School
X-ORIGINAL-URL:https://north-branch-school.org
X-WR-CALDESC:Events for North Branch School
REFRESH-INTERVAL;VALUE=DURATION:PT1H
X-Robots-Tag:noindex
X-PUBLISHED-TTL:PT1H
BEGIN:VTIMEZONE
TZID:UTC
BEGIN:STANDARD
TZOFFSETFROM:+0000
TZOFFSETTO:+0000
TZNAME:UTC
DTSTART:20170101T000000
END:STANDARD
END:VTIMEZONE
BEGIN:VEVENT
DTSTART;VALUE=DATE:20170315
DTEND;VALUE=DATE:20170316
DTSTAMP:20260421T150700
CREATED:20170313T151106Z
LAST-MODIFIED:20170313T151106Z
UID:10338-1489536000-1489622399@north-branch-school.org
SUMMARY:Contracts Due
DESCRIPTION:Contracts from returning families are due by this date.
URL:https://north-branch-school.org/event/contracts-due/
CATEGORIES:Academic Calendar
END:VEVENT
END:VCALENDAR