BEGIN:VCALENDAR
VERSION:2.0
PRODID:-//North Branch School - ECPv6.15.0.1//NONSGML v1.0//EN
CALSCALE:GREGORIAN
METHOD:PUBLISH
X-ORIGINAL-URL:https://north-branch-school.org
X-WR-CALDESC:Events for North Branch School
REFRESH-INTERVAL;VALUE=DURATION:PT1H
X-Robots-Tag:noindex
X-PUBLISHED-TTL:PT1H
BEGIN:VTIMEZONE
TZID:UTC
BEGIN:STANDARD
TZOFFSETFROM:+0000
TZOFFSETTO:+0000
TZNAME:UTC
DTSTART:20160101T000000
END:STANDARD
END:VTIMEZONE
BEGIN:VEVENT
DTSTART;TZID=UTC:20160831T083000
DTEND;TZID=UTC:20160831T124500
DTSTAMP:20260422T005653
CREATED:20160711T182037Z
LAST-MODIFIED:20160711T182705Z
UID:9544-1472632200-1472647500@north-branch-school.org
SUMMARY:1st Day for Nursery\, EP\, Primaries
DESCRIPTION:This will be a half day for Early Primary and Primary classes.
URL:https://north-branch-school.org/event/1st-day-for-nursery-ep-primaries/
LOCATION:North Branch School\, 221 Mickens Road\, Afton\, VA\, 22920
CATEGORIES:Academic Calendar
END:VEVENT
END:VCALENDAR